BEGIN:VCALENDAR
VERSION:2.0
PRODID:-//Langhuus Kulturfabrik Cham - ECPv6.15.20//NONSGML v1.0//EN
CALSCALE:GREGORIAN
METHOD:PUBLISH
X-WR-CALNAME:Langhuus Kulturfabrik Cham
X-ORIGINAL-URL:https://langhuus.ch/blog
X-WR-CALDESC:Veranstaltungen für Langhuus Kulturfabrik Cham
REFRESH-INTERVAL;VALUE=DURATION:PT1H
X-Robots-Tag:noindex
X-PUBLISHED-TTL:PT1H
BEGIN:VTIMEZONE
TZID:Europe/Zurich
BEGIN:DAYLIGHT
TZOFFSETFROM:+0100
TZOFFSETTO:+0200
TZNAME:CEST
DTSTART:20230326T010000
END:DAYLIGHT
BEGIN:STANDARD
TZOFFSETFROM:+0200
TZOFFSETTO:+0100
TZNAME:CET
DTSTART:20231029T010000
END:STANDARD
BEGIN:DAYLIGHT
TZOFFSETFROM:+0100
TZOFFSETTO:+0200
TZNAME:CEST
DTSTART:20240331T010000
END:DAYLIGHT
BEGIN:STANDARD
TZOFFSETFROM:+0200
TZOFFSETTO:+0100
TZNAME:CET
DTSTART:20241027T010000
END:STANDARD
BEGIN:DAYLIGHT
TZOFFSETFROM:+0100
TZOFFSETTO:+0200
TZNAME:CEST
DTSTART:20250330T010000
END:DAYLIGHT
BEGIN:STANDARD
TZOFFSETFROM:+0200
TZOFFSETTO:+0100
TZNAME:CET
DTSTART:20251026T010000
END:STANDARD
BEGIN:DAYLIGHT
TZOFFSETFROM:+0100
TZOFFSETTO:+0200
TZNAME:CEST
DTSTART:20260329T010000
END:DAYLIGHT
BEGIN:STANDARD
TZOFFSETFROM:+0200
TZOFFSETTO:+0100
TZNAME:CET
DTSTART:20261025T010000
END:STANDARD
END:VTIMEZONE
BEGIN:VEVENT
DTSTART;TZID=Europe/Zurich:20250109T090000
DTEND;TZID=Europe/Zurich:20250109T110000
DTSTAMP:20260420T224446
CREATED:20240726T080439Z
LAST-MODIFIED:20250107T152100Z
UID:10003400-1736413200-1736420400@langhuus.ch
SUMMARY:Gitarre Kurs - für Anfänger
DESCRIPTION:Die Hauptidee ist\, dass Sie\, wenn Sie das Instrument nicht kennen\, die ersten Akkorde lernen und sich selbst zum Singen begleiten können. \nWenn Sie bereits Gitarre spielen\, vermerken Sie dies bitte auf dem Anmeldeformular und schreiben Sie ein Lied auf\, das Sie gerne lernen möchten. \nDonnerstagvormittag alle 14 Tage\n9.00 bis 10.00 Uhr für Deutschsprachige\n10.00 bis 11.00 Uhr für Spanischsprachige \nKosten CHF 250.- für 10 Lektionen Anmeldungen an info@violetaramos.ch
URL:https://langhuus.ch/blog/event/gitarre-kurs-fuer-anfaenger/2025-01-09/
LOCATION:Langhuus Kulturfabrik Cham\, Fabrikstrasse 9\, Cham\, 6330\, Schweiz
CATEGORIES:Musik,Workshop
ATTACH;FMTTYPE=image/png:https://langhuus.ch/blog/wp-content/uploads/2024/07/gitarre_herbst_2024.png
ORGANIZER;CN="Violeta Ramos":MAILTO:info@violetaramos.ch
END:VEVENT
BEGIN:VEVENT
DTSTART;TZID=Europe/Zurich:20241212T090000
DTEND;TZID=Europe/Zurich:20241212T110000
DTSTAMP:20260420T224446
CREATED:20240726T080439Z
LAST-MODIFIED:20250107T152100Z
UID:10003399-1733994000-1734001200@langhuus.ch
SUMMARY:Gitarre Kurs - für Anfänger
DESCRIPTION:Die Hauptidee ist\, dass Sie\, wenn Sie das Instrument nicht kennen\, die ersten Akkorde lernen und sich selbst zum Singen begleiten können. \nWenn Sie bereits Gitarre spielen\, vermerken Sie dies bitte auf dem Anmeldeformular und schreiben Sie ein Lied auf\, das Sie gerne lernen möchten. \nDonnerstagvormittag alle 14 Tage\n9.00 bis 10.00 Uhr für Deutschsprachige\n10.00 bis 11.00 Uhr für Spanischsprachige \nKosten CHF 250.- für 10 Lektionen Anmeldungen an info@violetaramos.ch
URL:https://langhuus.ch/blog/event/gitarre-kurs-fuer-anfaenger/2024-12-12/
LOCATION:Langhuus Kulturfabrik Cham\, Fabrikstrasse 9\, Cham\, 6330\, Schweiz
CATEGORIES:Musik,Workshop
ATTACH;FMTTYPE=image/png:https://langhuus.ch/blog/wp-content/uploads/2024/07/gitarre_herbst_2024.png
ORGANIZER;CN="Violeta Ramos":MAILTO:info@violetaramos.ch
END:VEVENT
BEGIN:VEVENT
DTSTART;TZID=Europe/Zurich:20241128T090000
DTEND;TZID=Europe/Zurich:20241128T110000
DTSTAMP:20260420T224446
CREATED:20240726T080439Z
LAST-MODIFIED:20250107T152100Z
UID:10003402-1732784400-1732791600@langhuus.ch
SUMMARY:Gitarre Kurs - für Anfänger
DESCRIPTION:Die Hauptidee ist\, dass Sie\, wenn Sie das Instrument nicht kennen\, die ersten Akkorde lernen und sich selbst zum Singen begleiten können. \nWenn Sie bereits Gitarre spielen\, vermerken Sie dies bitte auf dem Anmeldeformular und schreiben Sie ein Lied auf\, das Sie gerne lernen möchten. \nDonnerstagvormittag alle 14 Tage\n9.00 bis 10.00 Uhr für Deutschsprachige\n10.00 bis 11.00 Uhr für Spanischsprachige \nKosten CHF 250.- für 10 Lektionen Anmeldungen an info@violetaramos.ch
URL:https://langhuus.ch/blog/event/gitarre-kurs-fuer-anfaenger/2024-11-28/
LOCATION:Langhuus Kulturfabrik Cham\, Fabrikstrasse 9\, Cham\, 6330\, Schweiz
CATEGORIES:Musik,Workshop
ATTACH;FMTTYPE=image/png:https://langhuus.ch/blog/wp-content/uploads/2024/07/gitarre_herbst_2024.png
ORGANIZER;CN="Violeta Ramos":MAILTO:info@violetaramos.ch
END:VEVENT
BEGIN:VEVENT
DTSTART;TZID=Europe/Zurich:20241114T090000
DTEND;TZID=Europe/Zurich:20241114T110000
DTSTAMP:20260420T224446
CREATED:20240726T080439Z
LAST-MODIFIED:20250107T152100Z
UID:10003398-1731574800-1731582000@langhuus.ch
SUMMARY:Gitarre Kurs - für Anfänger
DESCRIPTION:Die Hauptidee ist\, dass Sie\, wenn Sie das Instrument nicht kennen\, die ersten Akkorde lernen und sich selbst zum Singen begleiten können. \nWenn Sie bereits Gitarre spielen\, vermerken Sie dies bitte auf dem Anmeldeformular und schreiben Sie ein Lied auf\, das Sie gerne lernen möchten. \nDonnerstagvormittag alle 14 Tage\n9.00 bis 10.00 Uhr für Deutschsprachige\n10.00 bis 11.00 Uhr für Spanischsprachige \nKosten CHF 250.- für 10 Lektionen Anmeldungen an info@violetaramos.ch
URL:https://langhuus.ch/blog/event/gitarre-kurs-fuer-anfaenger/2024-11-14/
LOCATION:Langhuus Kulturfabrik Cham\, Fabrikstrasse 9\, Cham\, 6330\, Schweiz
CATEGORIES:Musik,Workshop
ATTACH;FMTTYPE=image/png:https://langhuus.ch/blog/wp-content/uploads/2024/07/gitarre_herbst_2024.png
ORGANIZER;CN="Violeta Ramos":MAILTO:info@violetaramos.ch
END:VEVENT
BEGIN:VEVENT
DTSTART;TZID=Europe/Zurich:20241107T090000
DTEND;TZID=Europe/Zurich:20241107T110000
DTSTAMP:20260420T224446
CREATED:20240726T080439Z
LAST-MODIFIED:20250107T152100Z
UID:10003391-1730970000-1730977200@langhuus.ch
SUMMARY:Gitarre Kurs - für Anfänger
DESCRIPTION:Die Hauptidee ist\, dass Sie\, wenn Sie das Instrument nicht kennen\, die ersten Akkorde lernen und sich selbst zum Singen begleiten können. \nWenn Sie bereits Gitarre spielen\, vermerken Sie dies bitte auf dem Anmeldeformular und schreiben Sie ein Lied auf\, das Sie gerne lernen möchten. \nDonnerstagvormittag alle 14 Tage\n9.00 bis 10.00 Uhr für Deutschsprachige\n10.00 bis 11.00 Uhr für Spanischsprachige \nKosten CHF 250.- für 10 Lektionen Anmeldungen an info@violetaramos.ch
URL:https://langhuus.ch/blog/event/gitarre-kurs-fuer-anfaenger/2024-11-07/
LOCATION:Langhuus Kulturfabrik Cham\, Fabrikstrasse 9\, Cham\, 6330\, Schweiz
CATEGORIES:Musik,Workshop
ATTACH;FMTTYPE=image/png:https://langhuus.ch/blog/wp-content/uploads/2024/07/gitarre_herbst_2024.png
ORGANIZER;CN="Violeta Ramos":MAILTO:info@violetaramos.ch
END:VEVENT
BEGIN:VEVENT
DTSTART;TZID=Europe/Zurich:20241024T090000
DTEND;TZID=Europe/Zurich:20241024T110000
DTSTAMP:20260420T224446
CREATED:20240726T080439Z
LAST-MODIFIED:20250107T152100Z
UID:10003390-1729760400-1729767600@langhuus.ch
SUMMARY:Gitarre Kurs - für Anfänger
DESCRIPTION:Die Hauptidee ist\, dass Sie\, wenn Sie das Instrument nicht kennen\, die ersten Akkorde lernen und sich selbst zum Singen begleiten können. \nWenn Sie bereits Gitarre spielen\, vermerken Sie dies bitte auf dem Anmeldeformular und schreiben Sie ein Lied auf\, das Sie gerne lernen möchten. \nDonnerstagvormittag alle 14 Tage\n9.00 bis 10.00 Uhr für Deutschsprachige\n10.00 bis 11.00 Uhr für Spanischsprachige \nKosten CHF 250.- für 10 Lektionen Anmeldungen an info@violetaramos.ch
URL:https://langhuus.ch/blog/event/gitarre-kurs-fuer-anfaenger/2024-10-24/
LOCATION:Langhuus Kulturfabrik Cham\, Fabrikstrasse 9\, Cham\, 6330\, Schweiz
CATEGORIES:Musik,Workshop
ATTACH;FMTTYPE=image/png:https://langhuus.ch/blog/wp-content/uploads/2024/07/gitarre_herbst_2024.png
ORGANIZER;CN="Violeta Ramos":MAILTO:info@violetaramos.ch
END:VEVENT
BEGIN:VEVENT
DTSTART;TZID=Europe/Zurich:20240926T090000
DTEND;TZID=Europe/Zurich:20240926T110000
DTSTAMP:20260420T224446
CREATED:20240726T080439Z
LAST-MODIFIED:20250107T152100Z
UID:10003388-1727341200-1727348400@langhuus.ch
SUMMARY:Gitarre Kurs - für Anfänger
DESCRIPTION:Die Hauptidee ist\, dass Sie\, wenn Sie das Instrument nicht kennen\, die ersten Akkorde lernen und sich selbst zum Singen begleiten können. \nWenn Sie bereits Gitarre spielen\, vermerken Sie dies bitte auf dem Anmeldeformular und schreiben Sie ein Lied auf\, das Sie gerne lernen möchten. \nDonnerstagvormittag alle 14 Tage\n9.00 bis 10.00 Uhr für Deutschsprachige\n10.00 bis 11.00 Uhr für Spanischsprachige \nKosten CHF 250.- für 10 Lektionen Anmeldungen an info@violetaramos.ch
URL:https://langhuus.ch/blog/event/gitarre-kurs-fuer-anfaenger/2024-09-26/
LOCATION:Langhuus Kulturfabrik Cham\, Fabrikstrasse 9\, Cham\, 6330\, Schweiz
CATEGORIES:Musik,Workshop
ATTACH;FMTTYPE=image/png:https://langhuus.ch/blog/wp-content/uploads/2024/07/gitarre_herbst_2024.png
ORGANIZER;CN="Violeta Ramos":MAILTO:info@violetaramos.ch
END:VEVENT
BEGIN:VEVENT
DTSTART;TZID=Europe/Zurich:20240912T090000
DTEND;TZID=Europe/Zurich:20240912T110000
DTSTAMP:20260420T224446
CREATED:20240726T080439Z
LAST-MODIFIED:20250107T152100Z
UID:10003387-1726131600-1726138800@langhuus.ch
SUMMARY:Gitarre Kurs - für Anfänger
DESCRIPTION:Die Hauptidee ist\, dass Sie\, wenn Sie das Instrument nicht kennen\, die ersten Akkorde lernen und sich selbst zum Singen begleiten können. \nWenn Sie bereits Gitarre spielen\, vermerken Sie dies bitte auf dem Anmeldeformular und schreiben Sie ein Lied auf\, das Sie gerne lernen möchten. \nDonnerstagvormittag alle 14 Tage\n9.00 bis 10.00 Uhr für Deutschsprachige\n10.00 bis 11.00 Uhr für Spanischsprachige \nKosten CHF 250.- für 10 Lektionen Anmeldungen an info@violetaramos.ch
URL:https://langhuus.ch/blog/event/gitarre-kurs-fuer-anfaenger/2024-09-12/
LOCATION:Langhuus Kulturfabrik Cham\, Fabrikstrasse 9\, Cham\, 6330\, Schweiz
CATEGORIES:Musik,Workshop
ATTACH;FMTTYPE=image/png:https://langhuus.ch/blog/wp-content/uploads/2024/07/gitarre_herbst_2024.png
ORGANIZER;CN="Violeta Ramos":MAILTO:info@violetaramos.ch
END:VEVENT
BEGIN:VEVENT
DTSTART;TZID=Europe/Zurich:20240829T090000
DTEND;TZID=Europe/Zurich:20240829T110000
DTSTAMP:20260420T224446
CREATED:20240726T080439Z
LAST-MODIFIED:20250107T152100Z
UID:10003386-1724922000-1724929200@langhuus.ch
SUMMARY:Gitarre Kurs - für Anfänger
DESCRIPTION:Die Hauptidee ist\, dass Sie\, wenn Sie das Instrument nicht kennen\, die ersten Akkorde lernen und sich selbst zum Singen begleiten können. \nWenn Sie bereits Gitarre spielen\, vermerken Sie dies bitte auf dem Anmeldeformular und schreiben Sie ein Lied auf\, das Sie gerne lernen möchten. \nDonnerstagvormittag alle 14 Tage\n9.00 bis 10.00 Uhr für Deutschsprachige\n10.00 bis 11.00 Uhr für Spanischsprachige \nKosten CHF 250.- für 10 Lektionen Anmeldungen an info@violetaramos.ch
URL:https://langhuus.ch/blog/event/gitarre-kurs-fuer-anfaenger/2024-08-29/
LOCATION:Langhuus Kulturfabrik Cham\, Fabrikstrasse 9\, Cham\, 6330\, Schweiz
CATEGORIES:Musik,Workshop
ATTACH;FMTTYPE=image/png:https://langhuus.ch/blog/wp-content/uploads/2024/07/gitarre_herbst_2024.png
ORGANIZER;CN="Violeta Ramos":MAILTO:info@violetaramos.ch
END:VEVENT
END:VCALENDAR