BEGIN:VCALENDAR
VERSION:2.0
PRODID:-//Langhuus Kulturfabrik Cham - ECPv6.15.20//NONSGML v1.0//EN
CALSCALE:GREGORIAN
METHOD:PUBLISH
X-WR-CALNAME:Langhuus Kulturfabrik Cham
X-ORIGINAL-URL:https://langhuus.ch/blog
X-WR-CALDESC:Veranstaltungen für Langhuus Kulturfabrik Cham
REFRESH-INTERVAL;VALUE=DURATION:PT1H
X-Robots-Tag:noindex
X-PUBLISHED-TTL:PT1H
BEGIN:VTIMEZONE
TZID:Europe/Zurich
BEGIN:DAYLIGHT
TZOFFSETFROM:+0100
TZOFFSETTO:+0200
TZNAME:CEST
DTSTART:20210328T010000
END:DAYLIGHT
BEGIN:STANDARD
TZOFFSETFROM:+0200
TZOFFSETTO:+0100
TZNAME:CET
DTSTART:20211031T010000
END:STANDARD
BEGIN:DAYLIGHT
TZOFFSETFROM:+0100
TZOFFSETTO:+0200
TZNAME:CEST
DTSTART:20220327T010000
END:DAYLIGHT
BEGIN:STANDARD
TZOFFSETFROM:+0200
TZOFFSETTO:+0100
TZNAME:CET
DTSTART:20221030T010000
END:STANDARD
BEGIN:DAYLIGHT
TZOFFSETFROM:+0100
TZOFFSETTO:+0200
TZNAME:CEST
DTSTART:20230326T010000
END:DAYLIGHT
BEGIN:STANDARD
TZOFFSETFROM:+0200
TZOFFSETTO:+0100
TZNAME:CET
DTSTART:20231029T010000
END:STANDARD
END:VTIMEZONE
BEGIN:VEVENT
DTSTART;TZID=Europe/Zurich:20221009T140000
DTEND;TZID=Europe/Zurich:20221009T210000
DTSTAMP:20260425T205005
CREATED:20220912T202905Z
LAST-MODIFIED:20220914T103151Z
UID:10000043-1665324000-1665349200@langhuus.ch
SUMMARY:„Geheimnisse im Regenwald“ – 1. Langhuus Regenwaldtag
DESCRIPTION:Der tropische Regenwald ist ein faszinierender Lebensraum voller Überraschungen und geheimnisvoller Bewohner. Wir freuen uns daher\, diesem einzigartigen Lebensraum einen ganzen Tag zu widmen – der erste Langhuus Regenwaldtag! \nDafür haben der Biologe und Fotograf Dr. Stefan Rother von Tropica Verde und die Schweizer Regenwaldorganisation GREEN BOOTS ein attraktives Programm für jung und alt zusammengestellt. Kommt vorbei\, entdeckt Neues und verbringt einen vergnüglichen Tag zum Thema Regenwald! \nProgramm:\n> 14.00 Uhr Buntes Angebot für Familien mit Spielen\, Wettbewerben\, Päckli-Fischen und einigem mehr\n> 15.00 Uhr Lustige und spannende Regenwaldshow „Geheimnisse im Regenwald“ zum Mitraten\, Schmunzeln und Staunen\n> ab 16.30 Uhr Aktivitäten für Familien rund um das Thema Regenwald\n> 19.30 Uhr Abendveranstaltung mit Apéro: „Faszination Regenwald“. Die farbenprächtige Show von Stefan Rother mit spektakulären Fotos\, Videos\, Sounds und unglaublichen Geschichten aus dem Regenwald
URL:https://langhuus.ch/blog/event/geheimnisse-im-regenwald-1-langhuus-regenwaldtag/
LOCATION:Langhuus Kulturfabrik Cham\, Fabrikstrasse 9\, Cham\, 6330\, Schweiz
CATEGORIES:Natur,Vorträge
ATTACH;FMTTYPE=image/png:https://langhuus.ch/blog/wp-content/uploads/2022/09/noun-frog-3398678-FF59B9.png
ORGANIZER;CN="Faunity.ch/Tropica Verde":MAILTO:stefan@faunity.ch
END:VEVENT
END:VCALENDAR