BEGIN:VCALENDAR
VERSION:2.0
PRODID:-//Langhuus Kulturfabrik Cham - ECPv6.15.20//NONSGML v1.0//EN
CALSCALE:GREGORIAN
METHOD:PUBLISH
X-ORIGINAL-URL:https://langhuus.ch/blog
X-WR-CALDESC:Veranstaltungen für Langhuus Kulturfabrik Cham
REFRESH-INTERVAL;VALUE=DURATION:PT1H
X-Robots-Tag:noindex
X-PUBLISHED-TTL:PT1H
BEGIN:VTIMEZONE
TZID:Europe/Zurich
BEGIN:DAYLIGHT
TZOFFSETFROM:+0100
TZOFFSETTO:+0200
TZNAME:CEST
DTSTART:20220327T010000
END:DAYLIGHT
BEGIN:STANDARD
TZOFFSETFROM:+0200
TZOFFSETTO:+0100
TZNAME:CET
DTSTART:20221030T010000
END:STANDARD
BEGIN:DAYLIGHT
TZOFFSETFROM:+0100
TZOFFSETTO:+0200
TZNAME:CEST
DTSTART:20230326T010000
END:DAYLIGHT
BEGIN:STANDARD
TZOFFSETFROM:+0200
TZOFFSETTO:+0100
TZNAME:CET
DTSTART:20231029T010000
END:STANDARD
BEGIN:DAYLIGHT
TZOFFSETFROM:+0100
TZOFFSETTO:+0200
TZNAME:CEST
DTSTART:20240331T010000
END:DAYLIGHT
BEGIN:STANDARD
TZOFFSETFROM:+0200
TZOFFSETTO:+0100
TZNAME:CET
DTSTART:20241027T010000
END:STANDARD
END:VTIMEZONE
BEGIN:VEVENT
DTSTART;TZID=Europe/Zurich:20230314T190000
DTEND;TZID=Europe/Zurich:20230314T210000
DTSTAMP:20260425T143500
CREATED:20230111T154028Z
LAST-MODIFIED:20230111T154311Z
UID:10000181-1678820400-1678827600@langhuus.ch
SUMMARY:Buchtaufe Chamer Theater
DESCRIPTION:Geschichte der Theatergesellschaft Cham (1878-1981)\nund der Volksbühne Cham (seit 1981)\n\nRichard T. Meier\nMitarbeit für die Volksbühne Cham: Karl Köpfli \nEin Abend mit Geschichte und Geschichten zu den Theateraktivitäten in Cham. Die beiden wichtigsten Organisationen waren früher die Theatergesellschaft Cham und später die Volksbühne Cham. Die Geschichte der Theatergesellschaft war eng verknüpft mit der Liegenschaft Neudorf mit Restaurant\, Theater und Kino. Das Buch\, das sowohl in physischer wie auch in elektronischer Form verfügbar ist\, wird vom Autor vorgestellt. – Organisator: Chamapedia \nProgrammablauf:\n–  Bruno Werder\, Präsident Chamapedia: Begrüssung und Einleitung \n–  Autor: Die Geschichte der Theatergesellschaft Cham und der Volksbühne Cham \n–  Buchtaufe\n–  Apero riche\n–  Schlusswort Chamapedia\n–  Zwischenaktmusik durch das Cello-Ensemble «Das Sägewerk»
URL:https://langhuus.ch/blog/event/buchtaufe-chamer-theater/
LOCATION:Langhuus Kulturfabrik Cham\, Fabrikstrasse 9\, Cham\, 6330\, Schweiz
ATTACH;FMTTYPE=image/png:https://langhuus.ch/blog/wp-content/uploads/2023/01/chamer_theater.png
ORGANIZER;CN="CHAMAPEDIA":MAILTO:info@buerger-cham.ch
END:VEVENT
END:VCALENDAR