BEGIN:VCALENDAR
VERSION:2.0
PRODID:-//Langhuus Kulturfabrik Cham - ECPv6.15.20//NONSGML v1.0//EN
CALSCALE:GREGORIAN
METHOD:PUBLISH
X-WR-CALNAME:Langhuus Kulturfabrik Cham
X-ORIGINAL-URL:https://langhuus.ch/blog
X-WR-CALDESC:Veranstaltungen für Langhuus Kulturfabrik Cham
REFRESH-INTERVAL;VALUE=DURATION:PT1H
X-Robots-Tag:noindex
X-PUBLISHED-TTL:PT1H
BEGIN:VTIMEZONE
TZID:Europe/Zurich
BEGIN:DAYLIGHT
TZOFFSETFROM:+0100
TZOFFSETTO:+0200
TZNAME:CEST
DTSTART:20230326T010000
END:DAYLIGHT
BEGIN:STANDARD
TZOFFSETFROM:+0200
TZOFFSETTO:+0100
TZNAME:CET
DTSTART:20231029T010000
END:STANDARD
BEGIN:DAYLIGHT
TZOFFSETFROM:+0100
TZOFFSETTO:+0200
TZNAME:CEST
DTSTART:20240331T010000
END:DAYLIGHT
BEGIN:STANDARD
TZOFFSETFROM:+0200
TZOFFSETTO:+0100
TZNAME:CET
DTSTART:20241027T010000
END:STANDARD
BEGIN:DAYLIGHT
TZOFFSETFROM:+0100
TZOFFSETTO:+0200
TZNAME:CEST
DTSTART:20250330T010000
END:DAYLIGHT
BEGIN:STANDARD
TZOFFSETFROM:+0200
TZOFFSETTO:+0100
TZNAME:CET
DTSTART:20251026T010000
END:STANDARD
END:VTIMEZONE
BEGIN:VEVENT
DTSTART;VALUE=DATE:20240309
DTEND;VALUE=DATE:20240402
DTSTAMP:20260420T162738
CREATED:20240308T092552Z
LAST-MODIFIED:20240310T150750Z
UID:10002652-1709942400-1712015999@langhuus.ch
SUMMARY:ICELAND - Fotoausstellung
DESCRIPTION:Man steht da und hat das Gefühl\, dass man bei der Geburt der Erde dabei ist ! \nEs zischt und dampft aus einer Erdspalte\, riecht leicht nach Schwefel und im Hintergrund stehen einige wilde Schafe im kargen Gras vor bemoosten Steinen. Im Sommer 2009 hat Thierry B. Iceland umrundet und unzählige Bilder geschossen\, Gespräche mit Einheimischen geführt und kurze Texte geschrieben. Flora und Fauna sehen auf den ersten Blick sehr beschränkt aus\, aber es gibt unzählige Moose\, die das Vulkangestein überziehen. Man ist am Strand\, kurze Zeit später in einer Mondlandschaft\, und dann fühlt man sich in der Steppe oder auf einem Alpenpass. Der kurze Sommer hat viele Gesichter und es ist gut möglich\, dass man am selben Tag von Null bis Achtzehn Grad Temperatur alles erlebt. Einige Sonnenstrahlen\, die den peitschenden Wind vergessen lassen\, machen die Inselbewohner bereits glücklich. Die brodelnden Vulkane lassen uns wissen\, wie fragil und trügerisch eine Ruhephase sein kann. \n«Das letzte Bild habe ich nicht geschossen\,» meint der Photograph\, «ich habe das Stativ wieder eingepackt und mir vorgenommen\, dieses nordische Paradies bald wieder zu besuchen.» \nThierry B. ist Architektur- und Portrait-Photograph und betätigt sich in einem Teilzeit-Pensum auch als Dozent in der Erwachsenenbildung für Wirtschaftsthemen. Er ist in Luzern aufgewachsen\, wohnt seit vielen Jahren in Cham und betreibt seit 2015 ein Photostudio in Lindencham. \n  \nAusstellung vom 9.3.-1.4.2024\nin der Langhuus Kulturfabrik Cham \n  \nICELAND – Führung durch die Fotoausstellung \n \n  \nWeitere Auskünfte und Preise nach Anfrage. \nthierryb.ch
URL:https://langhuus.ch/blog/event/iceland-fotoausstellung/
LOCATION:Langhuus Kulturfabrik Cham\, Fabrikstrasse 9\, Cham\, 6330\, Schweiz
CATEGORIES:Ausstellung,Fotografie
ATTACH;FMTTYPE=image/png:https://langhuus.ch/blog/wp-content/uploads/2024/03/Thierry.png
ORGANIZER;CN="Verein Langhuus Kulturfabrik":MAILTO:info@langhuus.ch
END:VEVENT
BEGIN:VEVENT
DTSTART;TZID=Europe/Zurich:20240313T123000
DTEND;TZID=Europe/Zurich:20240313T133000
DTSTAMP:20260420T162738
CREATED:20240305T195559Z
LAST-MODIFIED:20240312T143820Z
UID:10002381-1710333000-1710336600@langhuus.ch
SUMMARY:Zmittag
DESCRIPTION:Auf Euch wartet „Aloo Khadi“\, ein nordindisches Gericht aus Rajasthan. Mit kräftigen Gewürzen geröstete Kartoffeln werden in einer sämigen Sauce aus Kichererbsenmehl und Joghurt mit Curryblättern an Basmatireis serviert. Eine echte Spezialität\, die entdeckt werden will. \nLasst uns gerne bis Dienstag wissen\, ob Ihr kommen könnt. \nWir freuen uns auf Euch. \nLiebe Grüsse und auf bald \ndie My Elephant Kitchen Family \nWichtiger Hinweis: Ab jetzt beginnt das Zmittag um 12.30 Uhr und kostet 25\,- CHF. \nJeden Mittwoch serviert My Elephant Kitchen im Langhuus ein feines Menu. \nAnmeldung via WhatsApp bis Dienstag Mittag. \n 
URL:https://langhuus.ch/blog/event/zmittag-9-3/
LOCATION:Langhuus Kulturfabrik Cham\, Fabrikstrasse 9\, Cham\, 6330\, Schweiz
CATEGORIES:Gesellschaft/Gemeinschaft,Kulinarik,Mittagessen,Zmittag
ATTACH;FMTTYPE=image/png:https://langhuus.ch/blog/wp-content/uploads/2023/09/medk_banner.png
END:VEVENT
BEGIN:VEVENT
DTSTART;TZID=Europe/Zurich:20240313T190000
DTEND;TZID=Europe/Zurich:20240313T210000
DTSTAMP:20260420T162738
CREATED:20231006T114935Z
LAST-MODIFIED:20250611T081618Z
UID:10001903-1710356400-1710363600@langhuus.ch
SUMMARY:PingPong
DESCRIPTION:Jeden 2. und 4. Mittwoch im Monat flitzt der weisse Ball über den PingPong Tisch. Sei dabei.
URL:https://langhuus.ch/blog/event/pinpong-3/2024-03-13/
CATEGORIES:Spiele,Sport
ATTACH;FMTTYPE=image/png:https://langhuus.ch/blog/wp-content/uploads/2022/10/noun-pingpong-2411195-FF59B9.png
END:VEVENT
BEGIN:VEVENT
DTSTART;TZID=Europe/Zurich:20240315T190000
DTEND;TZID=Europe/Zurich:20240315T230000
DTSTAMP:20260420T162738
CREATED:20231121T203336Z
LAST-MODIFIED:20231121T203338Z
UID:10002042-1710529200-1710543600@langhuus.ch
SUMMARY:Friitig Bar
DESCRIPTION:
URL:https://langhuus.ch/blog/event/friitig-bar-3/2024-03-15/
LOCATION:Langhuus Kulturfabrik Cham\, Fabrikstrasse 9\, Cham\, 6330\, Schweiz
CATEGORIES:Barbetrieb,Gesellschaft/Gemeinschaft
ATTACH;FMTTYPE=image/png:https://langhuus.ch/blog/wp-content/uploads/2023/04/noun-beer-1821205-FF59B9.png
ORGANIZER;CN="Verein Langhuus Kulturfabrik":MAILTO:info@langhuus.ch
END:VEVENT
BEGIN:VEVENT
DTSTART;TZID=Europe/Zurich:20240315T200000
DTEND;TZID=Europe/Zurich:20240316T010000
DTSTAMP:20260420T162738
CREATED:20240129T122823Z
LAST-MODIFIED:20240301T114723Z
UID:10002376-1710532800-1710550800@langhuus.ch
SUMMARY:Noche de SALSA\, BACHATA y MERENGUE
DESCRIPTION:DJ Benjamin Possú \nEssen: Empanadas Colombianas
URL:https://langhuus.ch/blog/event/noche-de-salsa-bachata-y-merengue-2/
LOCATION:Langhuus Kulturfabrik Cham\, Fabrikstrasse 9\, Cham\, 6330\, Schweiz
CATEGORIES:Kulinarik,Tanzen
ATTACH;FMTTYPE=image/png:https://langhuus.ch/blog/wp-content/uploads/2023/08/noun-dance-746531-FA59B9.png
ORGANIZER;CN="Verein Langhuus Kulturfabrik":MAILTO:info@langhuus.ch
END:VEVENT
BEGIN:VEVENT
DTSTART;TZID=Europe/Zurich:20240317T110000
DTEND;TZID=Europe/Zurich:20240317T120000
DTSTAMP:20260420T162738
CREATED:20240310T145603Z
LAST-MODIFIED:20240310T151416Z
UID:10002653-1710673200-1710676800@langhuus.ch
SUMMARY:ICELAND - Führung durch die Fotoausstellung
DESCRIPTION:Thierry Burgherr führt durch seine Fotoausstellung \n  \n 
URL:https://langhuus.ch/blog/event/iceland-fuehrung-durch-die-fotoausstellung/
LOCATION:Langhuus Kulturfabrik Cham\, Fabrikstrasse 9\, Cham\, 6330\, Schweiz
CATEGORIES:Ausstellung,Fotografie
ATTACH;FMTTYPE=image/png:https://langhuus.ch/blog/wp-content/uploads/2024/03/Thierry.png
ORGANIZER;CN="Verein Langhuus Kulturfabrik":MAILTO:info@langhuus.ch
END:VEVENT
END:VCALENDAR