BEGIN:VCALENDAR
VERSION:2.0
PRODID:-//Langhuus Kulturfabrik Cham - ECPv6.15.20//NONSGML v1.0//EN
CALSCALE:GREGORIAN
METHOD:PUBLISH
X-WR-CALNAME:Langhuus Kulturfabrik Cham
X-ORIGINAL-URL:https://langhuus.ch/blog
X-WR-CALDESC:Veranstaltungen für Langhuus Kulturfabrik Cham
REFRESH-INTERVAL;VALUE=DURATION:PT1H
X-Robots-Tag:noindex
X-PUBLISHED-TTL:PT1H
BEGIN:VTIMEZONE
TZID:Europe/Zurich
BEGIN:DAYLIGHT
TZOFFSETFROM:+0100
TZOFFSETTO:+0200
TZNAME:CEST
DTSTART:20230326T010000
END:DAYLIGHT
BEGIN:STANDARD
TZOFFSETFROM:+0200
TZOFFSETTO:+0100
TZNAME:CET
DTSTART:20231029T010000
END:STANDARD
BEGIN:DAYLIGHT
TZOFFSETFROM:+0100
TZOFFSETTO:+0200
TZNAME:CEST
DTSTART:20240331T010000
END:DAYLIGHT
BEGIN:STANDARD
TZOFFSETFROM:+0200
TZOFFSETTO:+0100
TZNAME:CET
DTSTART:20241027T010000
END:STANDARD
BEGIN:DAYLIGHT
TZOFFSETFROM:+0100
TZOFFSETTO:+0200
TZNAME:CEST
DTSTART:20250330T010000
END:DAYLIGHT
BEGIN:STANDARD
TZOFFSETFROM:+0200
TZOFFSETTO:+0100
TZNAME:CET
DTSTART:20251026T010000
END:STANDARD
END:VTIMEZONE
BEGIN:VEVENT
DTSTART;TZID=Europe/Zurich:20240104T200000
DTEND;TZID=Europe/Zurich:20240104T220000
DTSTAMP:20260421T014338
CREATED:20230504T073323Z
LAST-MODIFIED:20230813T084229Z
UID:10001278-1704398400-1704405600@langhuus.ch
SUMMARY:Jam Session
DESCRIPTION:Schlagzeug und PA stehen bereit.\nHast du deine Gitarre schon gestimmt?
URL:https://langhuus.ch/blog/event/jam-session-6/2024-01-04/
LOCATION:Langhuus Kulturfabrik Cham\, Fabrikstrasse 9\, Cham\, 6330\, Schweiz
CATEGORIES:Gesang,Konzert/Live-Musik,Workshop
ATTACH;FMTTYPE=image/png:https://langhuus.ch/blog/wp-content/uploads/2022/05/noun-sound-4850649-F559BA.png
ORGANIZER;CN="Verein Langhuus Kulturfabrik":MAILTO:info@langhuus.ch
END:VEVENT
BEGIN:VEVENT
DTSTART;TZID=Europe/Zurich:20240105T190000
DTEND;TZID=Europe/Zurich:20240105T230000
DTSTAMP:20260421T014338
CREATED:20231121T203336Z
LAST-MODIFIED:20231121T203338Z
UID:10001019-1704481200-1704495600@langhuus.ch
SUMMARY:Friitig Bar
DESCRIPTION:
URL:https://langhuus.ch/blog/event/friitig-bar-3/2024-01-05/
LOCATION:Langhuus Kulturfabrik Cham\, Fabrikstrasse 9\, Cham\, 6330\, Schweiz
CATEGORIES:Barbetrieb,Gesellschaft/Gemeinschaft
ATTACH;FMTTYPE=image/png:https://langhuus.ch/blog/wp-content/uploads/2023/04/noun-beer-1821205-FF59B9.png
ORGANIZER;CN="Verein Langhuus Kulturfabrik":MAILTO:info@langhuus.ch
END:VEVENT
BEGIN:VEVENT
DTSTART;TZID=Europe/Zurich:20240107T110000
DTEND;TZID=Europe/Zurich:20240107T130000
DTSTAMP:20260421T014338
CREATED:20230227T163217Z
LAST-MODIFIED:20230705T104209Z
UID:10000736-1704625200-1704632400@langhuus.ch
SUMMARY:Philo Runde
DESCRIPTION:Komm vorbei für einen philosophischen Austausch. Das Thema bestimmen wir vor Ort.
URL:https://langhuus.ch/blog/event/philo-runde-april-2023/2024-01-07/
LOCATION:Langhuus Kulturfabrik Cham\, Fabrikstrasse 9\, Cham\, 6330\, Schweiz
CATEGORIES:Gesellschaft/Gemeinschaft,Philosophie/Gespräche
ATTACH;FMTTYPE=image/png:https://langhuus.ch/blog/wp-content/uploads/2022/06/noun-thinker-783600-FF59B9.png
ORGANIZER;CN="Verein Langhuus Kulturfabrik":MAILTO:info@langhuus.ch
END:VEVENT
END:VCALENDAR