BEGIN:VCALENDAR
VERSION:2.0
PRODID:-//Langhuus Kulturfabrik Cham - ECPv6.15.20//NONSGML v1.0//EN
CALSCALE:GREGORIAN
METHOD:PUBLISH
X-WR-CALNAME:Langhuus Kulturfabrik Cham
X-ORIGINAL-URL:https://langhuus.ch/blog
X-WR-CALDESC:Veranstaltungen für Langhuus Kulturfabrik Cham
REFRESH-INTERVAL;VALUE=DURATION:PT1H
X-Robots-Tag:noindex
X-PUBLISHED-TTL:PT1H
BEGIN:VTIMEZONE
TZID:Europe/Zurich
BEGIN:DAYLIGHT
TZOFFSETFROM:+0100
TZOFFSETTO:+0200
TZNAME:CEST
DTSTART:20220327T010000
END:DAYLIGHT
BEGIN:STANDARD
TZOFFSETFROM:+0200
TZOFFSETTO:+0100
TZNAME:CET
DTSTART:20221030T010000
END:STANDARD
BEGIN:DAYLIGHT
TZOFFSETFROM:+0100
TZOFFSETTO:+0200
TZNAME:CEST
DTSTART:20230326T010000
END:DAYLIGHT
BEGIN:STANDARD
TZOFFSETFROM:+0200
TZOFFSETTO:+0100
TZNAME:CET
DTSTART:20231029T010000
END:STANDARD
BEGIN:DAYLIGHT
TZOFFSETFROM:+0100
TZOFFSETTO:+0200
TZNAME:CEST
DTSTART:20240331T010000
END:DAYLIGHT
BEGIN:STANDARD
TZOFFSETFROM:+0200
TZOFFSETTO:+0100
TZNAME:CET
DTSTART:20241027T010000
END:STANDARD
END:VTIMEZONE
BEGIN:VEVENT
DTSTART;TZID=Europe/Zurich:20231211T190000
DTEND;TZID=Europe/Zurich:20231211T220000
DTSTAMP:20260423T115615
CREATED:20231210T181350Z
LAST-MODIFIED:20240425T200438Z
UID:10002297-1702321200-1702332000@langhuus.ch
SUMMARY:Musik Kreis
DESCRIPTION:Heute möchte ich Ihnen die Praxis vorstellen\, den Rhythmus zu spüren. Man nennt es einen Musikkreis\, etwas Ähnliches\, das unsere Vorfahren vor vielen Jahren taten\, als sie anfingen\, Musikinstrumente zu lernen. Wir haben viele Musikinstrumente\, bei denen es nur darauf ankommt\, den Rhythmus zu spüren. Die Regel dieser Runde ist einfach: Sie müssen sich gegenseitig hören\, um eine Resonanz im Klang zu erzeugen. Wir werden auch versuchen\, unsere Stimme als rhythmische Klangquelle zu nutzen und beim Singen Resonanz zu erzeugen. \nEnnio Solomko – Künstler\, Musiker\, Performer.\nInstagram: @‌dobryinamir
URL:https://langhuus.ch/blog/event/musical-circle/
LOCATION:Langhuus Kulturfabrik Cham\, Fabrikstrasse 9\, Cham\, 6330\, Schweiz
CATEGORIES:Musik,Workshop
ATTACH;FMTTYPE=image/jpeg:https://langhuus.ch/blog/wp-content/uploads/2023/12/ennio_drum.jpeg
ORGANIZER;CN="Verein Langhuus Kulturfabrik":MAILTO:info@langhuus.ch
END:VEVENT
BEGIN:VEVENT
DTSTART;TZID=Europe/Zurich:20231213T190000
DTEND;TZID=Europe/Zurich:20231213T210000
DTSTAMP:20260423T115615
CREATED:20231006T114935Z
LAST-MODIFIED:20250611T081618Z
UID:10001900-1702494000-1702501200@langhuus.ch
SUMMARY:PingPong
DESCRIPTION:Jeden 2. und 4. Mittwoch im Monat flitzt der weisse Ball über den PingPong Tisch. Sei dabei.
URL:https://langhuus.ch/blog/event/pinpong-3/2023-12-13/
CATEGORIES:Spiele,Sport
ATTACH;FMTTYPE=image/png:https://langhuus.ch/blog/wp-content/uploads/2022/10/noun-pingpong-2411195-FF59B9.png
END:VEVENT
BEGIN:VEVENT
DTSTART;TZID=Europe/Zurich:20231215T160000
DTEND;TZID=Europe/Zurich:20231215T230000
DTSTAMP:20260423T115615
CREATED:20230406T084210Z
LAST-MODIFIED:20231115T125635Z
UID:10001016-1702656000-1702681200@langhuus.ch
SUMMARY:Friitig Bar
DESCRIPTION:Die Langhuus Bar hat neu am Freitag schon ab 16 Uhr geöffnet. \nIdeal für ein Feierabend-Bier …
URL:https://langhuus.ch/blog/event/friitig-bar/2023-12-15/
LOCATION:Langhuus Kulturfabrik Cham\, Fabrikstrasse 9\, Cham\, 6330\, Schweiz
CATEGORIES:Barbetrieb,Gesellschaft/Gemeinschaft
ATTACH;FMTTYPE=image/png:https://langhuus.ch/blog/wp-content/uploads/2023/04/noun-beer-1821205-FF59B9.png
ORGANIZER;CN="Verein Langhuus Kulturfabrik":MAILTO:info@langhuus.ch
END:VEVENT
BEGIN:VEVENT
DTSTART;TZID=Europe/Zurich:20231216T130000
DTEND;TZID=Europe/Zurich:20231216T160000
DTSTAMP:20260423T115615
CREATED:20231112T102549Z
LAST-MODIFIED:20231112T102549Z
UID:10002017-1702731600-1702742400@langhuus.ch
SUMMARY:Gospelchorprobe
DESCRIPTION:Ein integrativer Gospelchor entsteht\, sei ein Teil davon! Probe ohne Anmeldung für alle Interessierten (Deutsch oder Englisch).\nEnglish spoken\, welcome everybody! \nVeranstalter: Gospel Voices Zug
URL:https://langhuus.ch/blog/event/gospelchorprobe-3/
LOCATION:Langhuus Kulturfabrik Cham\, Fabrikstrasse 9\, Cham\, 6330\, Schweiz
CATEGORIES:Chor,Workshop
ATTACH;FMTTYPE=image/png:https://langhuus.ch/blog/wp-content/uploads/2023/02/noun-choir-4592889-B477E0.png
END:VEVENT
END:VCALENDAR