BEGIN:VCALENDAR
VERSION:2.0
PRODID:-//Langhuus Kulturfabrik Cham - ECPv6.15.20//NONSGML v1.0//EN
CALSCALE:GREGORIAN
METHOD:PUBLISH
X-WR-CALNAME:Langhuus Kulturfabrik Cham
X-ORIGINAL-URL:https://langhuus.ch/blog
X-WR-CALDESC:Veranstaltungen für Langhuus Kulturfabrik Cham
REFRESH-INTERVAL;VALUE=DURATION:PT1H
X-Robots-Tag:noindex
X-PUBLISHED-TTL:PT1H
BEGIN:VTIMEZONE
TZID:Europe/Zurich
BEGIN:DAYLIGHT
TZOFFSETFROM:+0100
TZOFFSETTO:+0200
TZNAME:CEST
DTSTART:20220327T010000
END:DAYLIGHT
BEGIN:STANDARD
TZOFFSETFROM:+0200
TZOFFSETTO:+0100
TZNAME:CET
DTSTART:20221030T010000
END:STANDARD
BEGIN:DAYLIGHT
TZOFFSETFROM:+0100
TZOFFSETTO:+0200
TZNAME:CEST
DTSTART:20230326T010000
END:DAYLIGHT
BEGIN:STANDARD
TZOFFSETFROM:+0200
TZOFFSETTO:+0100
TZNAME:CET
DTSTART:20231029T010000
END:STANDARD
BEGIN:DAYLIGHT
TZOFFSETFROM:+0100
TZOFFSETTO:+0200
TZNAME:CEST
DTSTART:20240331T010000
END:DAYLIGHT
BEGIN:STANDARD
TZOFFSETFROM:+0200
TZOFFSETTO:+0100
TZNAME:CET
DTSTART:20241027T010000
END:STANDARD
END:VTIMEZONE
BEGIN:VEVENT
DTSTART;TZID=Europe/Zurich:20231122T120000
DTEND;TZID=Europe/Zurich:20231122T130000
DTSTAMP:20260421T084441
CREATED:20230912T114600Z
LAST-MODIFIED:20231126T031633Z
UID:10002293-1700654400-1700658000@langhuus.ch
SUMMARY:Zmittag
DESCRIPTION:Jeden Mittwoch serviert My Elephant Kitchen im Langhuus ein feines Menu. \nAnmeldung via WhatsApp bis Dienstag Mittag. \n 
URL:https://langhuus.ch/blog/event/zmittag/2023-11-22/
LOCATION:Langhuus Kulturfabrik Cham\, Fabrikstrasse 9\, Cham\, 6330\, Schweiz
CATEGORIES:Gesellschaft/Gemeinschaft,Kulinarik,Mittagessen,Zmittag
ATTACH;FMTTYPE=image/png:https://langhuus.ch/blog/wp-content/uploads/2023/09/medk_banner.png
END:VEVENT
BEGIN:VEVENT
DTSTART;TZID=Europe/Zurich:20231122T120000
DTEND;TZID=Europe/Zurich:20231122T130000
DTSTAMP:20260421T084441
CREATED:20231119T165006Z
LAST-MODIFIED:20231119T165010Z
UID:10001515-1700654400-1700658000@langhuus.ch
SUMMARY:Zmittag
DESCRIPTION:Am nächsten Mittwoch erwartet Euch ein ayurvedisch inspiriertes Gericht\, das in ganz Indien geliebt wird „Khichidi“. Dabei handelt es sich um eine Art Reis\, Linsen und Gemüseeintopf\, serviert mit verschiedenen Pickels\, und Bhoondi Raita\, kleinen frittierten Kichererbsenmehlbällchen in Joghurt. \nWir freuen uns auf Euch! \nJeden Mittwoch serviert My Elephant Kitchen im Langhuus ein feines Menu. \nAnmeldung via WhatsApp bis Dienstag Mittag. \n 
URL:https://langhuus.ch/blog/event/zmittag-8/
LOCATION:Langhuus Kulturfabrik Cham\, Fabrikstrasse 9\, Cham\, 6330\, Schweiz
CATEGORIES:Gesellschaft/Gemeinschaft,Kulinarik,Mittagessen,Zmittag
ATTACH;FMTTYPE=image/png:https://langhuus.ch/blog/wp-content/uploads/2023/09/medk_banner.png
END:VEVENT
BEGIN:VEVENT
DTSTART;TZID=Europe/Zurich:20231122T190000
DTEND;TZID=Europe/Zurich:20231122T210000
DTSTAMP:20260421T084441
CREATED:20231006T114756Z
LAST-MODIFIED:20240301T084525Z
UID:10001781-1700679600-1700686800@langhuus.ch
SUMMARY:PingPong
DESCRIPTION:Jeden 2. und 4. Mittwoch im Monat flitzt der weisse Ball über den PingPong Tisch. Sei dabei.
URL:https://langhuus.ch/blog/event/pinpong-2/2023-11-22/
LOCATION:Langhuus Kulturfabrik Cham\, Fabrikstrasse 9\, Cham\, 6330\, Schweiz
CATEGORIES:Spiele,Sport
ATTACH;FMTTYPE=image/png:https://langhuus.ch/blog/wp-content/uploads/2022/10/noun-pingpong-2411195-FF59B9.png
END:VEVENT
BEGIN:VEVENT
DTSTART;TZID=Europe/Zurich:20231123T190000
DTEND;TZID=Europe/Zurich:20231123T213000
DTSTAMP:20260421T084441
CREATED:20231012T035857Z
LAST-MODIFIED:20231012T040020Z
UID:10001960-1700766000-1700775000@langhuus.ch
SUMMARY:Ein Leben mit den Maasai in Tansania
DESCRIPTION:Im April 2019 gründete Sara Schälchli gemeinsam mit 9 Maasai Frauen im ruralen Norden Tansanias das Frauenförderungsprojekt Engoitoi Epuan\, was übersetzt „Der Weg zur Selbstbestimmung“ heisst. Nun\, 4 Jahre später führt der gemeinnützige Verein 2 Projekte\, in welchen einzigartige Glasperl- und Stoffprodukte entstehen. Die Geschäftsführerin und Projektleiterin Sara Schälchli berichtet uns am 23. November um 20:00 Uhr in einem Vortrag und dem anschliessenden Interview von ihrem Herzensprojekt und ihrem so ganz anderen Leben mit den Maasai. \nhttps://www.engoitoi-epuan.ch/de  \nBar ab 19 Ihr\nVortrag 20 Uhr
URL:https://langhuus.ch/blog/event/maasai/
LOCATION:Langhuus Kulturfabrik Cham\, Fabrikstrasse 9\, Cham\, 6330\, Schweiz
CATEGORIES:Gesellschaft/Gemeinschaft,Vorträge
ATTACH;FMTTYPE=image/png:https://langhuus.ch/blog/wp-content/uploads/2023/10/maasai.png
ORGANIZER;CN="Verein Langhuus Kulturfabrik":MAILTO:info@langhuus.ch
END:VEVENT
BEGIN:VEVENT
DTSTART;TZID=Europe/Zurich:20231123T190000
DTEND;TZID=Europe/Zurich:20231123T220000
DTSTAMP:20260421T084441
CREATED:20231012T040356Z
LAST-MODIFIED:20231012T040356Z
UID:10001402-1700766000-1700776800@langhuus.ch
SUMMARY:Spielabend
DESCRIPTION:Jeden Monat am zweiten und vierten Donnerstag Abend rollen die Würfel im Langhuus. Oder soll es eine Partie Schach oder eine Runde Dog sein? Du darfst gerne selbst Spiele mitbringen.
URL:https://langhuus.ch/blog/event/spielabend_vierter_donnerstag-3-3/
LOCATION:Langhuus Kulturfabrik Cham\, Fabrikstrasse 9\, Cham\, 6330\, Schweiz
CATEGORIES:Gesellschaft/Gemeinschaft,Spiele
ATTACH;FMTTYPE=image/png:https://langhuus.ch/blog/wp-content/uploads/2022/05/noun-dice-1671260-F559BA.png
ORGANIZER;CN="Verein Langhuus Kulturfabrik":MAILTO:info@langhuus.ch
END:VEVENT
BEGIN:VEVENT
DTSTART;TZID=Europe/Zurich:20231124T160000
DTEND;TZID=Europe/Zurich:20231124T230000
DTSTAMP:20260421T084441
CREATED:20230406T084210Z
LAST-MODIFIED:20231115T125635Z
UID:10001013-1700841600-1700866800@langhuus.ch
SUMMARY:Friitig Bar
DESCRIPTION:Die Langhuus Bar hat neu am Freitag schon ab 16 Uhr geöffnet. \nIdeal für ein Feierabend-Bier …
URL:https://langhuus.ch/blog/event/friitig-bar/2023-11-24/
LOCATION:Langhuus Kulturfabrik Cham\, Fabrikstrasse 9\, Cham\, 6330\, Schweiz
CATEGORIES:Barbetrieb,Gesellschaft/Gemeinschaft
ATTACH;FMTTYPE=image/png:https://langhuus.ch/blog/wp-content/uploads/2023/04/noun-beer-1821205-FF59B9.png
ORGANIZER;CN="Verein Langhuus Kulturfabrik":MAILTO:info@langhuus.ch
END:VEVENT
BEGIN:VEVENT
DTSTART;TZID=Europe/Zurich:20231124T200000
DTEND;TZID=Europe/Zurich:20231124T220000
DTSTAMP:20260421T084441
CREATED:20231012T040824Z
LAST-MODIFIED:20231012T041253Z
UID:10001962-1700856000-1700863200@langhuus.ch
SUMMARY:NEUETÖNE - Konzert
DESCRIPTION:Musik von Freddie Mercury bis Abdullah Ibrahim und unverwechselbare Arrangements von Thomas Plüss sind Grundlage für einen jazzigen Abend. Elf BlasmusikerInnen und ein Schlagzeuger aus dem Grossraum Zug füllen das Langhuus mit ihrem eigenwilligen Sound. Ein mitreissendes Musikerlebnis\, gespickt mit individuellen Solos. \nBar 16.00\nKonzert 20.00 \nKollekte
URL:https://langhuus.ch/blog/event/neuetoene-konzert-2/
ATTACH;FMTTYPE=image/png:https://langhuus.ch/blog/wp-content/uploads/2022/11/die_neuentoene_2023_inst.png
END:VEVENT
BEGIN:VEVENT
DTSTART;TZID=Europe/Zurich:20231125T100000
DTEND;TZID=Europe/Zurich:20231125T113000
DTSTAMP:20260421T084441
CREATED:20231012T041750Z
LAST-MODIFIED:20231012T041858Z
UID:10001963-1700906400-1700911800@langhuus.ch
SUMMARY:Eltern - Kind Kunst Workshop - Neurographische Kunst erschaffen
DESCRIPTION:Kreative Workshop mit Künstlerinnen Laura Latacz & Julia Nissimoff \nNimm an unserem kreativen Workshop für Eltern und Kinder teil. In diesem spannenden Workshop wirst du dich gemeinsam mit deinem Kind verbinden und entspannen\, während ihr die Kraft der neurographische Kunst entdeckt. \nNeurographische Kunst ist eine kreative Technik\, die sich auf das Zeichnen von Linien und Mustern konzentriert\, um Stress abzubauen und die Gehirnaktivität zu harmonisieren. \nKinder zwischen 6 und 12 Jahren sind willkommen\, begleitet von einem Elternteil. \nDer Workshop findet auf Deutsch und Englisch statt. \nWas können Sie erwarten? \n\nEine Einführung in die Neurografik-Kunst\nEntspannen Sie sich und malen Sie gemeinsam mit Ihrem Kind\nWählen Sie aus einer vielfältigen Auswahl an Kunstmaterialien und Farben\nGehen Sie nach Hause mit Ihrem eigenen Meisterwerk und einer neuen lustigen Erinnerung“\n\nKosten:\n25 CHF pro Kind / 35 CHF pro Erwachsene \nAnmeldung via Email unter info@hands-on-art.com
URL:https://langhuus.ch/blog/event/eltern-kind-kunst-workshop-neurographische-kunst-erschaffen/
LOCATION:Langhuus Kulturfabrik Cham\, Fabrikstrasse 9\, Cham\, 6330\, Schweiz
CATEGORIES:Kinder,Kunst,Malerei,Workshop
ATTACH;FMTTYPE=image/jpeg:https://langhuus.ch/blog/wp-content/uploads/2023/10/neurog001.jpg
ORGANIZER;CN="Hands On Art":MAILTO:info@hands-on-art.com
END:VEVENT
BEGIN:VEVENT
DTSTART;TZID=Europe/Zurich:20231126T140000
DTEND;TZID=Europe/Zurich:20231126T150000
DTSTAMP:20260421T084441
CREATED:20230822T133355Z
LAST-MODIFIED:20231005T093442Z
UID:10001443-1701007200-1701010800@langhuus.ch
SUMMARY:Schabernack...partout Variété - Gerta rennt - eine clownesce Collage
DESCRIPTION:eine clownesce Collage über das Träumen und die Wirklichkeit \nDirekt vom Zielraum auf die Bühne ist sie gekommen und möchte sich feiern lassen. Alle Leute sind schon da\, doch wo bleibt das Komitée? Gerta taucht mit grossem Engagement und skurrilem Slapstick in jede neue Episode und was ihr da alles begegnet\, ist einer Wundertüte ähnlich. Jeden Moment begibt sie sich in eine andere Welt\, wobei sie auch mal als Diva oder Zauberer auftaucht\, um wieder zu verschwinden und als Ballettänzerin mit ihrem wunderbar poetischen Tanz über die Bühne zu tribbeln… \nempfohlen für Leute von 7-99 Jahren \nSpiel und Geschichte: Judith Salome Weingartner\nPiano: Tobias Künzli\nRegie: Bernard Stöckli\nBild: FotoLeu
URL:https://langhuus.ch/blog/event/gerta-rennt/
LOCATION:Langhuus Kulturfabrik Cham\, Fabrikstrasse 9\, Cham\, 6330\, Schweiz
CATEGORIES:Kinder,Theater
ATTACH;FMTTYPE=image/jpeg:https://langhuus.ch/blog/wp-content/uploads/2023/08/Gerta_rennt...klein_.jpg
ORGANIZER;CN="Schabernack...partout Vari%C3%A9t%C3%A9":MAILTO:kontakt@rattera.com
END:VEVENT
BEGIN:VEVENT
DTSTART;TZID=Europe/Zurich:20231126T190000
DTEND;TZID=Europe/Zurich:20231126T203000
DTSTAMP:20260421T084441
CREATED:20231019T070055Z
LAST-MODIFIED:20231019T070055Z
UID:10001969-1701025200-1701030600@langhuus.ch
SUMMARY:GUGGE HOLDRIOFÄGER - öffentlichi Prob
DESCRIPTION:
URL:https://langhuus.ch/blog/event/gugge-holdriofaeger-oeffentlichi-prob/
LOCATION:Langhuus Kulturfabrik Cham\, Fabrikstrasse 9\, Cham\, 6330\, Schweiz
CATEGORIES:Konzert/Live-Musik
ATTACH;FMTTYPE=image/png:https://langhuus.ch/blog/wp-content/uploads/2023/10/PROBE-HF.png
ORGANIZER;CN="Verein Langhuus Kulturfabrik":MAILTO:info@langhuus.ch
END:VEVENT
END:VCALENDAR