BEGIN:VCALENDAR
VERSION:2.0
PRODID:-//Langhuus Kulturfabrik Cham - ECPv6.15.20//NONSGML v1.0//EN
CALSCALE:GREGORIAN
METHOD:PUBLISH
X-WR-CALNAME:Langhuus Kulturfabrik Cham
X-ORIGINAL-URL:https://langhuus.ch/blog
X-WR-CALDESC:Veranstaltungen für Langhuus Kulturfabrik Cham
REFRESH-INTERVAL;VALUE=DURATION:PT1H
X-Robots-Tag:noindex
X-PUBLISHED-TTL:PT1H
BEGIN:VTIMEZONE
TZID:Europe/Zurich
BEGIN:DAYLIGHT
TZOFFSETFROM:+0100
TZOFFSETTO:+0200
TZNAME:CEST
DTSTART:20220327T010000
END:DAYLIGHT
BEGIN:STANDARD
TZOFFSETFROM:+0200
TZOFFSETTO:+0100
TZNAME:CET
DTSTART:20221030T010000
END:STANDARD
BEGIN:DAYLIGHT
TZOFFSETFROM:+0100
TZOFFSETTO:+0200
TZNAME:CEST
DTSTART:20230326T010000
END:DAYLIGHT
BEGIN:STANDARD
TZOFFSETFROM:+0200
TZOFFSETTO:+0100
TZNAME:CET
DTSTART:20231029T010000
END:STANDARD
BEGIN:DAYLIGHT
TZOFFSETFROM:+0100
TZOFFSETTO:+0200
TZNAME:CEST
DTSTART:20240331T010000
END:DAYLIGHT
BEGIN:STANDARD
TZOFFSETFROM:+0200
TZOFFSETTO:+0100
TZNAME:CET
DTSTART:20241027T010000
END:STANDARD
END:VTIMEZONE
BEGIN:VEVENT
DTSTART;TZID=Europe/Zurich:20231030T190000
DTEND;TZID=Europe/Zurich:20231030T213000
DTSTAMP:20260423T222715
CREATED:20230823T175455Z
LAST-MODIFIED:20231002T055733Z
UID:10001448-1698692400-1698701400@langhuus.ch
SUMMARY:Theaterlust Improvisation
DESCRIPTION:Impro-Theater Workshop mit Christina Steybe\nSpielfreude entdecken und in vielen Varianten auskosten! \nLernen\, wie Improvisieren geht\, Ausdruck\, Kreativität\, Humor und körperliche wie geistige Gewandtheit üben. Beim Improvisieren weisst Du nicht wirklich\, was kommt. Du reagierst im Augenblick\, lernst auch den anderen Raum geben\, kannst scheitern – und viel Spass haben bei all dem. Impro-Theater ist aufregend\, lebendig und lustvoll! \nEinstieg jeweils mit warm-ups und Spielen\, kennenlernen und üben von Techniken\, Bühnensituationen (Solo\, Duo oder Gruppe). \nWir bewegen uns – bitte bequeme Kleidung\, Jacke\, Socken oder Gymnastikschuhe mitbringen \nDer Workshop findet mit mind. 8\, max. 12 Teilnehmenden statt \n9.+ 16. + 23. + 30. Oktober 2023\njeweils 19.00 – 21.30 Uhr \nKosten: CHF 150.- für alle Kurstage (bar oder Twint am ersten Kursabend) \nAnmeldung bis am 1. Oktober (Name\, Adresse\, Tel.\, Mailadresse) an: csteybe@bluewin.ch \nGoody: Am letzten Kursabend – 30. Oktober 2023 laden wir von 20:45 bis 21:30 Uhr zu einer kleinen\, öffentlichen Impro Aufführung ein!\nEintritt frei\, im Anschluss Barbetrieb \n 
URL:https://langhuus.ch/blog/event/theaterlust-improvisation-4/2023-10-30/
LOCATION:Langhuus Kulturfabrik Cham\, Fabrikstrasse 9\, Cham\, 6330\, Schweiz
CATEGORIES:Theater,Workshop
ATTACH;FMTTYPE=image/png:https://langhuus.ch/blog/wp-content/uploads/2023/01/noun-pantomime-5251128-FF59B9.png
ORGANIZER;CN="Verein Langhuus Kulturfabrik":MAILTO:info@langhuus.ch
END:VEVENT
BEGIN:VEVENT
DTSTART;TZID=Europe/Zurich:20231101T120000
DTEND;TZID=Europe/Zurich:20231101T130000
DTSTAMP:20260423T222715
CREATED:20231029T083233Z
LAST-MODIFIED:20231029T083235Z
UID:10001512-1698840000-1698843600@langhuus.ch
SUMMARY:Zmittag
DESCRIPTION:Liebe Freunde \nAm 1. November zum Feiertag wartet ein besonderes indisches Wintergericht auf Euch. My Elephant Kitchen serviert ‚Dal Makhani‘\, das Dal der Maharajas\, cremig\, üppig\, mit Berglinsen aus dem Himalaya. Serviert mit Gewürzreispulau und wärmendem\, ofebgeröstetem Blumenkohl mit Gewürzen aus dem Kaschmir und unserem Minzjoghurtdip. \nWir freuen uns auf Euch. \nJeden Mittwoch serviert My Elephant Kitchen im Langhuus ein feines Menu. \nAnmeldung via WhatsApp bis Dienstag Mittag. \n 
URL:https://langhuus.ch/blog/event/zmittag-6/
LOCATION:Langhuus Kulturfabrik Cham\, Fabrikstrasse 9\, Cham\, 6330\, Schweiz
CATEGORIES:Gesellschaft/Gemeinschaft,Kulinarik,Mittagessen,Zmittag
ATTACH;FMTTYPE=image/png:https://langhuus.ch/blog/wp-content/uploads/2023/09/medk_banner.png
END:VEVENT
BEGIN:VEVENT
DTSTART;TZID=Europe/Zurich:20231102T200000
DTEND;TZID=Europe/Zurich:20231102T220000
DTSTAMP:20260423T222715
CREATED:20230504T073323Z
LAST-MODIFIED:20230813T084229Z
UID:10001276-1698955200-1698962400@langhuus.ch
SUMMARY:Jam Session
DESCRIPTION:Schlagzeug und PA stehen bereit.\nHast du deine Gitarre schon gestimmt?
URL:https://langhuus.ch/blog/event/jam-session-6/2023-11-02/
LOCATION:Langhuus Kulturfabrik Cham\, Fabrikstrasse 9\, Cham\, 6330\, Schweiz
CATEGORIES:Gesang,Konzert/Live-Musik,Workshop
ATTACH;FMTTYPE=image/png:https://langhuus.ch/blog/wp-content/uploads/2022/05/noun-sound-4850649-F559BA.png
ORGANIZER;CN="Verein Langhuus Kulturfabrik":MAILTO:info@langhuus.ch
END:VEVENT
BEGIN:VEVENT
DTSTART;TZID=Europe/Zurich:20231103T160000
DTEND;TZID=Europe/Zurich:20231103T230000
DTSTAMP:20260423T222715
CREATED:20230406T084210Z
LAST-MODIFIED:20231115T125635Z
UID:10001010-1699027200-1699052400@langhuus.ch
SUMMARY:Friitig Bar
DESCRIPTION:Die Langhuus Bar hat neu am Freitag schon ab 16 Uhr geöffnet. \nIdeal für ein Feierabend-Bier …
URL:https://langhuus.ch/blog/event/friitig-bar/2023-11-03/
LOCATION:Langhuus Kulturfabrik Cham\, Fabrikstrasse 9\, Cham\, 6330\, Schweiz
CATEGORIES:Barbetrieb,Gesellschaft/Gemeinschaft
ATTACH;FMTTYPE=image/png:https://langhuus.ch/blog/wp-content/uploads/2023/04/noun-beer-1821205-FF59B9.png
ORGANIZER;CN="Verein Langhuus Kulturfabrik":MAILTO:info@langhuus.ch
END:VEVENT
BEGIN:VEVENT
DTSTART;TZID=Europe/Zurich:20231103T190000
DTEND;TZID=Europe/Zurich:20231103T210000
DTSTAMP:20260423T222715
CREATED:20231008T175226Z
LAST-MODIFIED:20231020T050428Z
UID:10001958-1699038000-1699045200@langhuus.ch
SUMMARY:kro-ko-dil-like-Lese-Spektakel mit Das Sägewerk Cello
DESCRIPTION:Foto\, Text\, Design zum sofortigen Verzehr bestimmt – das ist «kro-ko-dil-like» – ein Kunstobjekt in Buchform. \nNic Baschung verlegte «kro-ko-dil-like» vor etlichen Jahren zusammen mit einem Grafiker und Fotografen – jetzt hat er es wieder gefunden. In zwei Kisten. Jetzt liest Nic aus seinem Buch vor und verschenkt es dem interessierten Publikum. Während er Fotos und Design und Text spielen lässt\, untermalt Das Sägewerk mit 3 Cellos die Veranstaltung. \nKollekte
URL:https://langhuus.ch/blog/event/kro-ko-dil-like-lese-spektakel/
LOCATION:Langhuus Kulturfabrik Cham\, Fabrikstrasse 9\, Cham\, 6330\, Schweiz
CATEGORIES:Aktion,Lesungen
ATTACH;FMTTYPE=image/png:https://langhuus.ch/blog/wp-content/uploads/2023/10/kroko.png
ORGANIZER;CN="Verein Langhuus Kulturfabrik":MAILTO:info@langhuus.ch
END:VEVENT
BEGIN:VEVENT
DTSTART;TZID=Europe/Zurich:20231104T190000
DTEND;TZID=Europe/Zurich:20231105T010000
DTSTAMP:20260423T222715
CREATED:20230309T144434Z
LAST-MODIFIED:20231012T034029Z
UID:10000971-1699124400-1699146000@langhuus.ch
SUMMARY:TanzLANG
DESCRIPTION:🕺Disco-Tanzparty 💃\nmit DJ Tava – music is magic \nTanzen zu kultigen 80er Beats bis um Mitternacht. Im Langhuus tanzen macht einfach Freude. \nAn der Bar gibt es eine grosse Auswahl an Getränken. \nEin Abend für alle Sinne! \nEintritt 15 Fr\n19.00 bis 01.00 Uhr \nAm 4.11. gibt es vor allem Dance-Hits aus den 80‘er (inkl. neue deutsche Welle). Es gibt so coole Music aus der Zeit!! \nMottopart\, für Gäste\, die Lust und Laune haben – sich entsprechend den 80ern anzuziehen.
URL:https://langhuus.ch/blog/event/tanzlang-2/
LOCATION:Langhuus Kulturfabrik Cham\, Fabrikstrasse 9\, Cham\, 6330\, Schweiz
CATEGORIES:Disco,Tanzen
ATTACH;FMTTYPE=image/png:https://langhuus.ch/blog/wp-content/uploads/2022/09/noun-disco-76273-FF59B9.png
ORGANIZER;CN="Verein Langhuus Kulturfabrik":MAILTO:info@langhuus.ch
END:VEVENT
BEGIN:VEVENT
DTSTART;TZID=Europe/Zurich:20231105T110000
DTEND;TZID=Europe/Zurich:20231105T130000
DTSTAMP:20260423T222715
CREATED:20230227T163217Z
LAST-MODIFIED:20230705T104209Z
UID:10000734-1699182000-1699189200@langhuus.ch
SUMMARY:Philo Runde
DESCRIPTION:Komm vorbei für einen philosophischen Austausch. Das Thema bestimmen wir vor Ort.
URL:https://langhuus.ch/blog/event/philo-runde-april-2023/2023-11-05/
LOCATION:Langhuus Kulturfabrik Cham\, Fabrikstrasse 9\, Cham\, 6330\, Schweiz
CATEGORIES:Gesellschaft/Gemeinschaft,Philosophie/Gespräche
ATTACH;FMTTYPE=image/png:https://langhuus.ch/blog/wp-content/uploads/2022/06/noun-thinker-783600-FF59B9.png
ORGANIZER;CN="Verein Langhuus Kulturfabrik":MAILTO:info@langhuus.ch
END:VEVENT
BEGIN:VEVENT
DTSTART;TZID=Europe/Zurich:20231105T190000
DTEND;TZID=Europe/Zurich:20231105T220000
DTSTAMP:20260423T222715
CREATED:20231003T034125Z
LAST-MODIFIED:20231006T075436Z
UID:10001777-1699210800-1699221600@langhuus.ch
SUMMARY:Sarah Borges
DESCRIPTION:doors 19.00\nconcert 19.30 \ncharity event for humanitarian help for Ukraine \nSarah Borges is a rock and roll musician based in the Boston\, Massachusetts\, area\, formerly signed to Sugar Hill Records. Her music has been described as „walking that fine line between punk and country„. \nBorges‘ wide variety of influences are often noted. They range from Dolly Parton\, Mahalia Jackson\, X\, Sid Vicious\, Merle Haggard\, to bubblegum pop. \nOn the strength of a performance at the South by Southwest Festival in 2004\, Borges earned a record deal with Houston’s Blue Corn Records. Her records earned praise from Allmusic „an unusual knack for mixing alternative rock with country” and compared Borges to Maria McKee of Lone Justice\, admired how her songs „balance some fierce guitar licks with heartfelt twang\,” „grittily brilliant“ with songs that are „brilliantly rollicking“. \nTogether Alone carries any message or lesson\, it’s about finding the courage to face the hard times head on and not give in or up. And it’s about caring enough to bring the things that you miss\, and that matter\, back to life. –Jonathan Perry \nhttps://sarahborges.com/ 
URL:https://langhuus.ch/blog/event/sarah-borges/
LOCATION:Langhuus Kulturfabrik Cham\, Fabrikstrasse 9\, Cham\, 6330\, Schweiz
CATEGORIES:Konzert/Live-Musik
ATTACH;FMTTYPE=image/png:https://langhuus.ch/blog/wp-content/uploads/2023/10/facebook-banner-sarah-borges-oct-2023.png
ORGANIZER;CN="Verein Langhuus Kulturfabrik":MAILTO:info@langhuus.ch
END:VEVENT
END:VCALENDAR