BEGIN:VCALENDAR
VERSION:2.0
PRODID:-//Langhuus Kulturfabrik Cham - ECPv6.15.20//NONSGML v1.0//EN
CALSCALE:GREGORIAN
METHOD:PUBLISH
X-WR-CALNAME:Langhuus Kulturfabrik Cham
X-ORIGINAL-URL:https://langhuus.ch/blog
X-WR-CALDESC:Veranstaltungen für Langhuus Kulturfabrik Cham
REFRESH-INTERVAL;VALUE=DURATION:PT1H
X-Robots-Tag:noindex
X-PUBLISHED-TTL:PT1H
BEGIN:VTIMEZONE
TZID:Europe/Zurich
BEGIN:DAYLIGHT
TZOFFSETFROM:+0100
TZOFFSETTO:+0200
TZNAME:CEST
DTSTART:20220327T010000
END:DAYLIGHT
BEGIN:STANDARD
TZOFFSETFROM:+0200
TZOFFSETTO:+0100
TZNAME:CET
DTSTART:20221030T010000
END:STANDARD
BEGIN:DAYLIGHT
TZOFFSETFROM:+0100
TZOFFSETTO:+0200
TZNAME:CEST
DTSTART:20230326T010000
END:DAYLIGHT
BEGIN:STANDARD
TZOFFSETFROM:+0200
TZOFFSETTO:+0100
TZNAME:CET
DTSTART:20231029T010000
END:STANDARD
BEGIN:DAYLIGHT
TZOFFSETFROM:+0100
TZOFFSETTO:+0200
TZNAME:CEST
DTSTART:20240331T010000
END:DAYLIGHT
BEGIN:STANDARD
TZOFFSETFROM:+0200
TZOFFSETTO:+0100
TZNAME:CET
DTSTART:20241027T010000
END:STANDARD
END:VTIMEZONE
BEGIN:VEVENT
DTSTART;TZID=Europe/Zurich:20231016T190000
DTEND;TZID=Europe/Zurich:20231016T213000
DTSTAMP:20260424T014457
CREATED:20230823T175455Z
LAST-MODIFIED:20231002T055733Z
UID:10001446-1697482800-1697491800@langhuus.ch
SUMMARY:Theaterlust Improvisation
DESCRIPTION:Impro-Theater Workshop mit Christina Steybe\nSpielfreude entdecken und in vielen Varianten auskosten! \nLernen\, wie Improvisieren geht\, Ausdruck\, Kreativität\, Humor und körperliche wie geistige Gewandtheit üben. Beim Improvisieren weisst Du nicht wirklich\, was kommt. Du reagierst im Augenblick\, lernst auch den anderen Raum geben\, kannst scheitern – und viel Spass haben bei all dem. Impro-Theater ist aufregend\, lebendig und lustvoll! \nEinstieg jeweils mit warm-ups und Spielen\, kennenlernen und üben von Techniken\, Bühnensituationen (Solo\, Duo oder Gruppe). \nWir bewegen uns – bitte bequeme Kleidung\, Jacke\, Socken oder Gymnastikschuhe mitbringen \nDer Workshop findet mit mind. 8\, max. 12 Teilnehmenden statt \n9.+ 16. + 23. + 30. Oktober 2023\njeweils 19.00 – 21.30 Uhr \nKosten: CHF 150.- für alle Kurstage (bar oder Twint am ersten Kursabend) \nAnmeldung bis am 1. Oktober (Name\, Adresse\, Tel.\, Mailadresse) an: csteybe@bluewin.ch \nGoody: Am letzten Kursabend – 30. Oktober 2023 laden wir von 20:45 bis 21:30 Uhr zu einer kleinen\, öffentlichen Impro Aufführung ein!\nEintritt frei\, im Anschluss Barbetrieb \n 
URL:https://langhuus.ch/blog/event/theaterlust-improvisation-4/2023-10-16/
LOCATION:Langhuus Kulturfabrik Cham\, Fabrikstrasse 9\, Cham\, 6330\, Schweiz
CATEGORIES:Theater,Workshop
ATTACH;FMTTYPE=image/png:https://langhuus.ch/blog/wp-content/uploads/2023/01/noun-pantomime-5251128-FF59B9.png
ORGANIZER;CN="Verein Langhuus Kulturfabrik":MAILTO:info@langhuus.ch
END:VEVENT
BEGIN:VEVENT
DTSTART;TZID=Europe/Zurich:20231018T120000
DTEND;TZID=Europe/Zurich:20231018T130000
DTSTAMP:20260424T014457
CREATED:20231014T194113Z
LAST-MODIFIED:20231014T194114Z
UID:10001510-1697630400-1697634000@langhuus.ch
SUMMARY:Zmittag
DESCRIPTION:Jeden Mittwoch serviert My Elephant Kitchen im Langhuus ein feines Menu. \nDiese Woche verwöhnen wir Euch mit einem herrlichen Zucchettidaal an goldenem Kurkumabasmatireis. Serviert mit hausgemachten Zwiebelpickles und unserem Randenjoghurtdip. Würzig und wärmend\, genau das Richtige\, wenn die Tage kälter werden. Sagt es gerne weiter! Wir freuen uns auf Euch! \nAnmeldung via WhatsApp bis Dienstag Mittag. \nTeam My Elephant Kitchen \n  \n 
URL:https://langhuus.ch/blog/event/zmittag-4/
LOCATION:Langhuus Kulturfabrik Cham\, Fabrikstrasse 9\, Cham\, 6330\, Schweiz
CATEGORIES:Gesellschaft/Gemeinschaft,Kulinarik,Mittagessen,Zmittag
ATTACH;FMTTYPE=image/png:https://langhuus.ch/blog/wp-content/uploads/2023/09/medk_banner.png
END:VEVENT
BEGIN:VEVENT
DTSTART;TZID=Europe/Zurich:20231019T140000
DTEND;TZID=Europe/Zurich:20231019T160000
DTSTAMP:20260424T014457
CREATED:20230927T073530Z
LAST-MODIFIED:20230927T073530Z
UID:10001775-1697724000-1697731200@langhuus.ch
SUMMARY:Spielnachmittag Verein Altern-in-Cham
DESCRIPTION:
URL:https://langhuus.ch/blog/event/spielnachmittag-verein-altern-in-cham-2/
LOCATION:Langhuus Kulturfabrik Cham\, Fabrikstrasse 9\, Cham\, 6330\, Schweiz
CATEGORIES:Gesellschaft/Gemeinschaft,Spiele
ATTACH;FMTTYPE=image/png:https://langhuus.ch/blog/wp-content/uploads/2022/05/noun-dice-1671260-F559BA.png
END:VEVENT
BEGIN:VEVENT
DTSTART;TZID=Europe/Zurich:20231020T160000
DTEND;TZID=Europe/Zurich:20231020T230000
DTSTAMP:20260424T014457
CREATED:20230406T084210Z
LAST-MODIFIED:20231115T125635Z
UID:10001008-1697817600-1697842800@langhuus.ch
SUMMARY:Friitig Bar
DESCRIPTION:Die Langhuus Bar hat neu am Freitag schon ab 16 Uhr geöffnet. \nIdeal für ein Feierabend-Bier …
URL:https://langhuus.ch/blog/event/friitig-bar/2023-10-20/
LOCATION:Langhuus Kulturfabrik Cham\, Fabrikstrasse 9\, Cham\, 6330\, Schweiz
CATEGORIES:Barbetrieb,Gesellschaft/Gemeinschaft
ATTACH;FMTTYPE=image/png:https://langhuus.ch/blog/wp-content/uploads/2023/04/noun-beer-1821205-FF59B9.png
ORGANIZER;CN="Verein Langhuus Kulturfabrik":MAILTO:info@langhuus.ch
END:VEVENT
END:VCALENDAR