BEGIN:VCALENDAR
VERSION:2.0
PRODID:-//Langhuus Kulturfabrik Cham - ECPv6.15.20//NONSGML v1.0//EN
CALSCALE:GREGORIAN
METHOD:PUBLISH
X-ORIGINAL-URL:https://langhuus.ch/blog
X-WR-CALDESC:Veranstaltungen für Langhuus Kulturfabrik Cham
REFRESH-INTERVAL;VALUE=DURATION:PT1H
X-Robots-Tag:noindex
X-PUBLISHED-TTL:PT1H
BEGIN:VTIMEZONE
TZID:Europe/Zurich
BEGIN:DAYLIGHT
TZOFFSETFROM:+0100
TZOFFSETTO:+0200
TZNAME:CEST
DTSTART:20220327T010000
END:DAYLIGHT
BEGIN:STANDARD
TZOFFSETFROM:+0200
TZOFFSETTO:+0100
TZNAME:CET
DTSTART:20221030T010000
END:STANDARD
BEGIN:DAYLIGHT
TZOFFSETFROM:+0100
TZOFFSETTO:+0200
TZNAME:CEST
DTSTART:20230326T010000
END:DAYLIGHT
BEGIN:STANDARD
TZOFFSETFROM:+0200
TZOFFSETTO:+0100
TZNAME:CET
DTSTART:20231029T010000
END:STANDARD
BEGIN:DAYLIGHT
TZOFFSETFROM:+0100
TZOFFSETTO:+0200
TZNAME:CEST
DTSTART:20240331T010000
END:DAYLIGHT
BEGIN:STANDARD
TZOFFSETFROM:+0200
TZOFFSETTO:+0100
TZNAME:CET
DTSTART:20241027T010000
END:STANDARD
END:VTIMEZONE
BEGIN:VEVENT
DTSTART;TZID=Europe/Zurich:20230914T190000
DTEND;TZID=Europe/Zurich:20230914T220000
DTSTAMP:20260424T131325
CREATED:20230814T131932Z
LAST-MODIFIED:20230911T095609Z
UID:10000850-1694718000-1694728800@langhuus.ch
SUMMARY:Spielabend
DESCRIPTION:Jeden Monat am zweiten und vierten Donnerstag Abend rollen die Würfel im Langhuus. Oder soll es eine Partie Schach oder eine Runde Dog sein? Du darfst gerne selbst Spiele mitbringen.
URL:https://langhuus.ch/blog/event/spielabend-zweiter-donnerstag-4/
LOCATION:Langhuus Kulturfabrik Cham\, Fabrikstrasse 9\, Cham\, 6330\, Schweiz
CATEGORIES:Gesellschaft/Gemeinschaft,Spiele
ATTACH;FMTTYPE=image/png:https://langhuus.ch/blog/wp-content/uploads/2022/05/noun-dice-1671260-F559BA.png
ORGANIZER;CN="Verein Langhuus Kulturfabrik":MAILTO:info@langhuus.ch
END:VEVENT
BEGIN:VEVENT
DTSTART;TZID=Europe/Zurich:20230928T190000
DTEND;TZID=Europe/Zurich:20230928T210000
DTSTAMP:20260424T131325
CREATED:20230830T085938Z
LAST-MODIFIED:20230830T112832Z
UID:10001362-1695927600-1695934800@langhuus.ch
SUMMARY:Spielabend - WERWÖLFLE
DESCRIPTION:Jeden Monat am zweiten und vierten Donnerstag Abend rollen die Würfel im Langhuus. Oder soll es eine Partie Schach oder eine Runde Dog sein? Du darfst gerne selbst Spiele mitbringen. \nDas Spiel des Abends: WERWÖLFLE \nDen Bürgern geht es ums blanke Überleben. Sie werden jede Nacht von Werwölfen heimgesucht. Sobald ein neuer Tag anbricht\, verwandeln sich die Werwölfe wieder in Bürger\, so dass die Bürger nur mit detektivischer Kleinarbeit herausfinden können wer unter Ihnen Werwolf ist und sich tagsüber nur als Bürger ausgibt. \nDas Spiel wird in Zusammenarbeit mit der Ludothek Cham organisiert und ist bei Allen Altersgruppen beliebt. \n \n 
URL:https://langhuus.ch/blog/event/spielabend_vierter_donnerstag-3-2/
LOCATION:Langhuus Kulturfabrik Cham\, Fabrikstrasse 9\, Cham\, 6330\, Schweiz
CATEGORIES:Gesellschaft/Gemeinschaft,Spiele
ATTACH;FMTTYPE=image/png:https://langhuus.ch/blog/wp-content/uploads/2023/06/noun-wolf-5981194-FA59B9.png
ORGANIZER;CN="Verein Langhuus Kulturfabrik":MAILTO:info@langhuus.ch
END:VEVENT
END:VCALENDAR