BEGIN:VCALENDAR
VERSION:2.0
PRODID:-//Langhuus Kulturfabrik Cham - ECPv6.15.20//NONSGML v1.0//EN
CALSCALE:GREGORIAN
METHOD:PUBLISH
X-ORIGINAL-URL:https://langhuus.ch/blog
X-WR-CALDESC:Veranstaltungen für Langhuus Kulturfabrik Cham
REFRESH-INTERVAL;VALUE=DURATION:PT1H
X-Robots-Tag:noindex
X-PUBLISHED-TTL:PT1H
BEGIN:VTIMEZONE
TZID:Europe/Zurich
BEGIN:DAYLIGHT
TZOFFSETFROM:+0100
TZOFFSETTO:+0200
TZNAME:CEST
DTSTART:20210328T010000
END:DAYLIGHT
BEGIN:STANDARD
TZOFFSETFROM:+0200
TZOFFSETTO:+0100
TZNAME:CET
DTSTART:20211031T010000
END:STANDARD
BEGIN:DAYLIGHT
TZOFFSETFROM:+0100
TZOFFSETTO:+0200
TZNAME:CEST
DTSTART:20220327T010000
END:DAYLIGHT
BEGIN:STANDARD
TZOFFSETFROM:+0200
TZOFFSETTO:+0100
TZNAME:CET
DTSTART:20221030T010000
END:STANDARD
BEGIN:DAYLIGHT
TZOFFSETFROM:+0100
TZOFFSETTO:+0200
TZNAME:CEST
DTSTART:20230326T010000
END:DAYLIGHT
BEGIN:STANDARD
TZOFFSETFROM:+0200
TZOFFSETTO:+0100
TZNAME:CET
DTSTART:20231029T010000
END:STANDARD
END:VTIMEZONE
BEGIN:VEVENT
DTSTART;TZID=Europe/Zurich:20221201T190000
DTEND;TZID=Europe/Zurich:20221201T220000
DTSTAMP:20260426T015933
CREATED:20220912T211411Z
LAST-MODIFIED:20220914T100049Z
UID:10000049-1669921200-1669932000@langhuus.ch
SUMMARY:Jam Session
DESCRIPTION:Jeden ersten Donnerstag im Monat findet eine Jam Session statt. Die Gelegenheit\, in lockerer Atmosphäre das Langhuus zum Klingen zu bringen. PA und Schlagzeug stehen bereit. Hast du deine Gitarre schon gestimmt?
URL:https://langhuus.ch/blog/event/jam-session-4/
LOCATION:Langhuus Kulturfabrik Cham\, Fabrikstrasse 9\, Cham\, 6330\, Schweiz
CATEGORIES:Barbetrieb,Gesellschaft/Gemeinschaft,Konzert/Live-Musik
ATTACH;FMTTYPE=image/png:https://langhuus.ch/blog/wp-content/uploads/2022/05/noun-sound-4850649-F559BA.png
ORGANIZER;CN="Verein Langhuus Kulturfabrik":MAILTO:info@langhuus.ch
END:VEVENT
BEGIN:VEVENT
DTSTART;TZID=Europe/Zurich:20221202T200000
DTEND;TZID=Europe/Zurich:20221202T220000
DTSTAMP:20260426T015933
CREATED:20221013T212332Z
LAST-MODIFIED:20221122T120636Z
UID:10000096-1670011200-1670018400@langhuus.ch
SUMMARY:Live Benefiz-Konzert: Ecuador Brass Band
DESCRIPTION:Live Konzert im Langhuus:\nEcuador Brass Band \nDie 5-köpfige Ecuador Brass Band ist Ende Jahr wieder einige Tage in der Schweiz zu einer Konzert- und Fundraising-Tour unterwegs. Die Musikschule von Jorge Pachacama und seiner Frau Patricia Anaguano arbeitet in Quito\, der Hauptstadt Ecuadors\, mit über 120 Kindern und Jugendlichen im wahrsten Sinne des Wortes kulturell und sozial. Die musikalische Förderung benachteiligter Kinder liegt ihnen besonders am Herzen. Wir freuen uns\, der Ecuador Brass Band im Rahmen eines Benefizkonzerts im Langhuus eine Bühne bieten zu können. \n \nEin Solist aus der Ecuador Brass Band\, Bryan Pachamama\, ist hier zu hören.
URL:https://langhuus.ch/blog/event/live-benefiz-konzert-ecuador-brass-band/
LOCATION:Langhuus Kulturfabrik Cham\, Fabrikstrasse 9\, Cham\, 6330\, Schweiz
CATEGORIES:Gesellschaft/Gemeinschaft,Konzert/Live-Musik
ATTACH;FMTTYPE=image/png:https://langhuus.ch/blog/wp-content/uploads/2022/09/noun-trombone-2603450-FF59B9-1.png
ORGANIZER;CN="Verein Langhuus Kulturfabrik":MAILTO:info@langhuus.ch
END:VEVENT
END:VCALENDAR