BEGIN:VCALENDAR
VERSION:2.0
PRODID:-//Langhuus Kulturfabrik Cham - ECPv6.15.20//NONSGML v1.0//EN
CALSCALE:GREGORIAN
METHOD:PUBLISH
X-WR-CALNAME:Langhuus Kulturfabrik Cham
X-ORIGINAL-URL:https://langhuus.ch/blog
X-WR-CALDESC:Veranstaltungen für Langhuus Kulturfabrik Cham
REFRESH-INTERVAL;VALUE=DURATION:PT1H
X-Robots-Tag:noindex
X-PUBLISHED-TTL:PT1H
BEGIN:VTIMEZONE
TZID:Europe/Zurich
BEGIN:DAYLIGHT
TZOFFSETFROM:+0100
TZOFFSETTO:+0200
TZNAME:CEST
DTSTART:20220327T010000
END:DAYLIGHT
BEGIN:STANDARD
TZOFFSETFROM:+0200
TZOFFSETTO:+0100
TZNAME:CET
DTSTART:20221030T010000
END:STANDARD
BEGIN:DAYLIGHT
TZOFFSETFROM:+0100
TZOFFSETTO:+0200
TZNAME:CEST
DTSTART:20230326T010000
END:DAYLIGHT
BEGIN:STANDARD
TZOFFSETFROM:+0200
TZOFFSETTO:+0100
TZNAME:CET
DTSTART:20231029T010000
END:STANDARD
BEGIN:DAYLIGHT
TZOFFSETFROM:+0100
TZOFFSETTO:+0200
TZNAME:CEST
DTSTART:20240331T010000
END:DAYLIGHT
BEGIN:STANDARD
TZOFFSETFROM:+0200
TZOFFSETTO:+0100
TZNAME:CET
DTSTART:20241027T010000
END:STANDARD
END:VTIMEZONE
BEGIN:VEVENT
DTSTART;TZID=Europe/Zurich:20230302T190000
DTEND;TZID=Europe/Zurich:20230302T220000
DTSTAMP:20260425T164003
CREATED:20230106T115444Z
LAST-MODIFIED:20230106T115444Z
UID:10000167-1677783600-1677794400@langhuus.ch
SUMMARY:Jam Session
DESCRIPTION:Jeden ersten Donnerstag im Monat findet eine Jam Session statt. Die Gelegenheit\, in lockerer Atmosphäre das Langhuus zum Klingen zu bringen. PA und Schlagzeug stehen bereit. Hast du deine Gitarre schon gestimmt?
URL:https://langhuus.ch/blog/event/jam-session-4-2-2-2/
LOCATION:Langhuus Kulturfabrik Cham\, Fabrikstrasse 9\, Cham\, 6330\, Schweiz
CATEGORIES:Barbetrieb,Gesellschaft/Gemeinschaft,Konzert/Live-Musik
ATTACH;FMTTYPE=image/png:https://langhuus.ch/blog/wp-content/uploads/2022/05/noun-sound-4850649-F559BA.png
ORGANIZER;CN="Verein Langhuus Kulturfabrik":MAILTO:info@langhuus.ch
END:VEVENT
BEGIN:VEVENT
DTSTART;TZID=Europe/Zurich:20230320T190000
DTEND;TZID=Europe/Zurich:20230320T220000
DTSTAMP:20260425T164003
CREATED:20230117T152854Z
LAST-MODIFIED:20230117T153005Z
UID:10000186-1679338800-1679349600@langhuus.ch
SUMMARY:Offenes Singen
DESCRIPTION:kunterbunter Liederabend\nWir singen einfache\, eingängige jedoch (hoffentlich) herzerfreuende Lieder. Auch wenn du den Eindruck hast\, nicht so toll singen zu können\, bist du sehr herzlich eingeladen. Es geht um das Singerlebnis an sich\, nicht um stimmakrobatische Höchstleistungen oder Kunststücke. Obwohl diese natürlich gerne auch sein dürfen. \nDie Lieder stammen mehrheitlich aus dem Fundus von Stimmvolk.ch. Es gibt auch Taizé- sowie weitere Lieder aus allen Herren Ländern. \nLydia Ehinger und Michael Semlitsch helfen uns die Stimmen\, Töne sowie den Rhythmus zu finden und begleiten uns mit ihren Instrumenten. Das Singen eignet sich ganz wohltuend wunderbar für Erwachsene jeden Alters. \nEine Topfkollekte wird bereitstehen.
URL:https://langhuus.ch/blog/event/offenes-singen-2/
LOCATION:Langhuus Kulturfabrik Cham\, Fabrikstrasse 9\, Cham\, 6330\, Schweiz
CATEGORIES:Gesang,Gesellschaft/Gemeinschaft,Konzert/Live-Musik,Workshop
ATTACH;FMTTYPE=image/png:https://langhuus.ch/blog/wp-content/uploads/2023/01/noun-song-2721419-FF59B9.png
ORGANIZER;CN="Verein Langhuus Kulturfabrik":MAILTO:info@langhuus.ch
END:VEVENT
END:VCALENDAR