BEGIN:VCALENDAR
VERSION:2.0
PRODID:-//Langhuus Kulturfabrik Cham - ECPv6.15.20//NONSGML v1.0//EN
CALSCALE:GREGORIAN
METHOD:PUBLISH
X-WR-CALNAME:Langhuus Kulturfabrik Cham
X-ORIGINAL-URL:https://langhuus.ch/blog
X-WR-CALDESC:Veranstaltungen für Langhuus Kulturfabrik Cham
REFRESH-INTERVAL;VALUE=DURATION:PT1H
X-Robots-Tag:noindex
X-PUBLISHED-TTL:PT1H
BEGIN:VTIMEZONE
TZID:Europe/Zurich
BEGIN:DAYLIGHT
TZOFFSETFROM:+0100
TZOFFSETTO:+0200
TZNAME:CEST
DTSTART:20210328T010000
END:DAYLIGHT
BEGIN:STANDARD
TZOFFSETFROM:+0200
TZOFFSETTO:+0100
TZNAME:CET
DTSTART:20211031T010000
END:STANDARD
BEGIN:DAYLIGHT
TZOFFSETFROM:+0100
TZOFFSETTO:+0200
TZNAME:CEST
DTSTART:20220327T010000
END:DAYLIGHT
BEGIN:STANDARD
TZOFFSETFROM:+0200
TZOFFSETTO:+0100
TZNAME:CET
DTSTART:20221030T010000
END:STANDARD
BEGIN:DAYLIGHT
TZOFFSETFROM:+0100
TZOFFSETTO:+0200
TZNAME:CEST
DTSTART:20230326T010000
END:DAYLIGHT
BEGIN:STANDARD
TZOFFSETFROM:+0200
TZOFFSETTO:+0100
TZNAME:CET
DTSTART:20231029T010000
END:STANDARD
END:VTIMEZONE
BEGIN:VEVENT
DTSTART;TZID=Europe/Zurich:20221210T210000
DTEND;TZID=Europe/Zurich:20221210T230000
DTSTAMP:20260425T190337
CREATED:20220926T221752Z
LAST-MODIFIED:20221105T062008Z
UID:10000079-1670706000-1670713200@langhuus.ch
SUMMARY:Konzert mit Skymorph & Live Drawing mit Pirmin Beeler
DESCRIPTION:Das Duo in der unkonventionellen Besetzung mit Cello und E-Gitarre kreiert instrumentale Klang-Metamorphosen. \nVon ruhigen\, sphärisch melancholischen Stimmungen zu lauten\, epischen Postrock Ausbrüchen\, von rhythmisch vertrackten Elementen über ausufernde\, experimentelle Passagen bis zu brachialen Noise Attacken; die Kompositionen und das dynamische Zusammenspiel der beiden Instrumente überraschen mit musikalisch unerwarteten Landschaftsbildern und Sound Eskapaden.
URL:https://langhuus.ch/blog/event/konzert-helmi/
LOCATION:Langhuus Kulturfabrik Cham\, Fabrikstrasse 9\, Cham\, 6330\, Schweiz
CATEGORIES:Barbetrieb,Gesellschaft/Gemeinschaft,Konzert/Live-Musik
ATTACH;FMTTYPE=image/png:https://langhuus.ch/blog/wp-content/uploads/2022/09/noun-cello-3863445-FF59B9.png
ORGANIZER;CN="Verein Langhuus Kulturfabrik":MAILTO:info@langhuus.ch
END:VEVENT
END:VCALENDAR