BEGIN:VCALENDAR
VERSION:2.0
PRODID:-//Langhuus Kulturfabrik Cham - ECPv6.15.20//NONSGML v1.0//EN
CALSCALE:GREGORIAN
METHOD:PUBLISH
X-ORIGINAL-URL:https://langhuus.ch/blog
X-WR-CALDESC:Veranstaltungen für Langhuus Kulturfabrik Cham
REFRESH-INTERVAL;VALUE=DURATION:PT1H
X-Robots-Tag:noindex
X-PUBLISHED-TTL:PT1H
BEGIN:VTIMEZONE
TZID:Europe/Zurich
BEGIN:DAYLIGHT
TZOFFSETFROM:+0100
TZOFFSETTO:+0200
TZNAME:CEST
DTSTART:20230326T010000
END:DAYLIGHT
BEGIN:STANDARD
TZOFFSETFROM:+0200
TZOFFSETTO:+0100
TZNAME:CET
DTSTART:20231029T010000
END:STANDARD
BEGIN:DAYLIGHT
TZOFFSETFROM:+0100
TZOFFSETTO:+0200
TZNAME:CEST
DTSTART:20240331T010000
END:DAYLIGHT
BEGIN:STANDARD
TZOFFSETFROM:+0200
TZOFFSETTO:+0100
TZNAME:CET
DTSTART:20241027T010000
END:STANDARD
BEGIN:DAYLIGHT
TZOFFSETFROM:+0100
TZOFFSETTO:+0200
TZNAME:CEST
DTSTART:20250330T010000
END:DAYLIGHT
BEGIN:STANDARD
TZOFFSETFROM:+0200
TZOFFSETTO:+0100
TZNAME:CET
DTSTART:20251026T010000
END:STANDARD
END:VTIMEZONE
BEGIN:VEVENT
DTSTART;TZID=Europe/Zurich:20240301T190000
DTEND;TZID=Europe/Zurich:20240301T230000
DTSTAMP:20260420T163626
CREATED:20231121T203336Z
LAST-MODIFIED:20231121T203338Z
UID:10002040-1709319600-1709334000@langhuus.ch
SUMMARY:Friitig Bar
DESCRIPTION:
URL:https://langhuus.ch/blog/event/friitig-bar-3/2024-03-01/
LOCATION:Langhuus Kulturfabrik Cham\, Fabrikstrasse 9\, Cham\, 6330\, Schweiz
CATEGORIES:Barbetrieb,Gesellschaft/Gemeinschaft
ATTACH;FMTTYPE=image/png:https://langhuus.ch/blog/wp-content/uploads/2023/04/noun-beer-1821205-FF59B9.png
ORGANIZER;CN="Verein Langhuus Kulturfabrik":MAILTO:info@langhuus.ch
END:VEVENT
BEGIN:VEVENT
DTSTART;TZID=Europe/Zurich:20240303T110000
DTEND;TZID=Europe/Zurich:20240303T130000
DTSTAMP:20260420T163626
CREATED:20240208T141840Z
LAST-MODIFIED:20240220T042446Z
UID:10000738-1709463600-1709470800@langhuus.ch
SUMMARY:Philo Runde - Thema "Natur und Kultur"
DESCRIPTION:Komm vorbei für einen philosophischen Austausch. Das Thema bestimmen wir vor Ort oder auch via vorherige Abstimmung in der TELEGRAM Gruppe „Langhuus Philo Runde“ \nAnkündigung\nLiebe Philo Runde \nWie letztes Mal angekündigt\, schlagen wir alternierend ein philosophisches Thema vor und bestimmen es dann wieder spontan in der Runde. \nBei der nächsten Philo Runde im März\, wird mich Xaver als Moderator vertreten. Er schlägt das Thema „ Kultur und Natur“ vor. Dazu lege ich euch folgenden Link bei. Der Beitrag ist relativ lang. Man kann sich auch auf anderen Wegen darauf vorbereiten oder auch gar nicht\, das ist jedem seine Sache. \nhttps://www.arte.tv/de/videos/110980-001-A/im-gespraech-mit-philippe-descola/ \nWer sich übrigens auf unserem Kanal „Philo Runde“ auf Telegram eintragen will\, ist auch stets über unsere Hintergrund Diskussionen im Bilde. Dazu der nächste Link: \nhttps://t.me/+Kh5GL4COUoBlYWM0 \nIch freue mich auf unseren weiteren philosophischen Austausch und darüber\, euch wieder zu begegnen.\nHerzliche Grüsse \n-\,^^;< Nic Baschung\ninfo@langhuus.ch
URL:https://langhuus.ch/blog/event/philo-runde-april-2023-3-2/
LOCATION:Langhuus Kulturfabrik Cham\, Fabrikstrasse 9\, Cham\, 6330\, Schweiz
CATEGORIES:Gesellschaft/Gemeinschaft,Philosophie/Gespräche
ATTACH;FMTTYPE=image/png:https://langhuus.ch/blog/wp-content/uploads/2022/06/noun-thinker-783600-FF59B9.png
ORGANIZER;CN="Verein Langhuus Kulturfabrik":MAILTO:info@langhuus.ch
END:VEVENT
BEGIN:VEVENT
DTSTART;TZID=Europe/Zurich:20240304T190000
DTEND;TZID=Europe/Zurich:20240304T220000
DTSTAMP:20260420T163626
CREATED:20240107T093246Z
LAST-MODIFIED:20240107T093246Z
UID:10002301-1709578800-1709589600@langhuus.ch
SUMMARY:Offenes Singen
DESCRIPTION:Wir singen einfache\, eingängige jedoch (hoffentlich) herzerfreuende Lieder. Auch wenn du den Eindruck hast\, nicht so toll singen zu können\, bist du sehr herzlich eingeladen. Es geht um das Singerlebnis an sich\, nicht um stimmakrobatische Höchstleistungen oder Kunststücke. Obwohl diese natürlich gerne auch sein dürfen. \nDie Lieder stammen mehrheitlich aus dem Fundus von Stimmvolk.ch. Es gibt auch Taizé- sowie weitere Lieder aus allen Herren Ländern. \nLydia Ehinger und Michael Semlitsch helfen uns die Stimmen\, Töne sowie den Rhythmus zu finden und begleiten uns mit ihren Instrumenten. Das Singen eignet sich ganz wohltuend wunderbar für Erwachsene jeden Alters. \nEine Topfkollekte wird bereitstehen.
URL:https://langhuus.ch/blog/event/offenes-singen-8/
LOCATION:Langhuus Kulturfabrik Cham\, Fabrikstrasse 9\, Cham\, 6330\, Schweiz
CATEGORIES:Chor,Gesang,Workshop
ATTACH;FMTTYPE=image/png:https://langhuus.ch/blog/wp-content/uploads/2023/01/noun-song-2721419-FF59B9.png
ORGANIZER;CN="Verein Langhuus Kulturfabrik":MAILTO:info@langhuus.ch
END:VEVENT
BEGIN:VEVENT
DTSTART;TZID=Europe/Zurich:20240306T123000
DTEND;TZID=Europe/Zurich:20240306T133000
DTSTAMP:20260420T163626
CREATED:20240303T150536Z
LAST-MODIFIED:20240305T195515Z
UID:10002380-1709728200-1709731800@langhuus.ch
SUMMARY:Zmittag
DESCRIPTION:Liebe Freunde \nWir freuen uns sehr\, dass das Langhuus Zmittag ab dem nächsten Mittwoch\, den 6. März\, in die neue Saison startet. \nAuf Euch wartet „Aloo Khadi“\, ein nordindisches Gericht aus Rajasthan. Mit kräftigen Gewürzen geröstete Kartoffeln werden in einer sämigen Sauce aus Kichererbsenmehl und Joghurt mit Curryblättern an Basmatireis serviert. Eine echte Spezialität\, die entdeckt werden will. \nLasst uns gerne bis Dienstag wissen\, ob Ihr kommen könnt. \nWir freuen uns auf Euch. \nLiebe Grüsse und auf bald \ndie My Elephant Kitchen Family \nWichtiger Hinweis: Ab jetzt beginnt das Zmittag um 12.30 Uhr und kostet 25\,- CHF. \n  \nJeden Mittwoch serviert My Elephant Kitchen im Langhuus ein feines Menu. \nAnmeldung via WhatsApp bis Dienstag Mittag. \n 
URL:https://langhuus.ch/blog/event/zmittag-9-2/
LOCATION:Langhuus Kulturfabrik Cham\, Fabrikstrasse 9\, Cham\, 6330\, Schweiz
CATEGORIES:Gesellschaft/Gemeinschaft,Kulinarik,Mittagessen,Zmittag
ATTACH;FMTTYPE=image/png:https://langhuus.ch/blog/wp-content/uploads/2023/09/medk_banner.png
END:VEVENT
BEGIN:VEVENT
DTSTART;TZID=Europe/Zurich:20240307T200000
DTEND;TZID=Europe/Zurich:20240307T220000
DTSTAMP:20260420T163626
CREATED:20230504T073323Z
LAST-MODIFIED:20230813T084229Z
UID:10001280-1709841600-1709848800@langhuus.ch
SUMMARY:Jam Session
DESCRIPTION:Schlagzeug und PA stehen bereit.\nHast du deine Gitarre schon gestimmt?
URL:https://langhuus.ch/blog/event/jam-session-6/2024-03-07/
LOCATION:Langhuus Kulturfabrik Cham\, Fabrikstrasse 9\, Cham\, 6330\, Schweiz
CATEGORIES:Gesang,Konzert/Live-Musik,Workshop
ATTACH;FMTTYPE=image/png:https://langhuus.ch/blog/wp-content/uploads/2022/05/noun-sound-4850649-F559BA.png
ORGANIZER;CN="Verein Langhuus Kulturfabrik":MAILTO:info@langhuus.ch
END:VEVENT
BEGIN:VEVENT
DTSTART;TZID=Europe/Zurich:20240308T190000
DTEND;TZID=Europe/Zurich:20240308T230000
DTSTAMP:20260420T163626
CREATED:20231121T203336Z
LAST-MODIFIED:20231121T203338Z
UID:10002041-1709924400-1709938800@langhuus.ch
SUMMARY:Friitig Bar
DESCRIPTION:
URL:https://langhuus.ch/blog/event/friitig-bar-3/2024-03-08/
LOCATION:Langhuus Kulturfabrik Cham\, Fabrikstrasse 9\, Cham\, 6330\, Schweiz
CATEGORIES:Barbetrieb,Gesellschaft/Gemeinschaft
ATTACH;FMTTYPE=image/png:https://langhuus.ch/blog/wp-content/uploads/2023/04/noun-beer-1821205-FF59B9.png
ORGANIZER;CN="Verein Langhuus Kulturfabrik":MAILTO:info@langhuus.ch
END:VEVENT
BEGIN:VEVENT
DTSTART;TZID=Europe/Zurich:20240308T190000
DTEND;TZID=Europe/Zurich:20240308T235900
DTSTAMP:20260420T163626
CREATED:20240107T163859Z
LAST-MODIFIED:20240129T122040Z
UID:10002306-1709924400-1709942340@langhuus.ch
SUMMARY:Schlagernacht bis Mitternacht
DESCRIPTION:mit Video DJ Dr. Beat\nEintritt Gratis
URL:https://langhuus.ch/blog/event/schlagernacht-bis-mitternacht/
LOCATION:Langhuus Kulturfabrik Cham\, Fabrikstrasse 9\, Cham\, 6330\, Schweiz
CATEGORIES:Disco
ATTACH;FMTTYPE=image/png:https://langhuus.ch/blog/wp-content/uploads/2024/01/noun-music-3041036-FF59B9.png
ORGANIZER;CN="Verein Langhuus Kulturfabrik":MAILTO:info@langhuus.ch
END:VEVENT
BEGIN:VEVENT
DTSTART;VALUE=DATE:20240309
DTEND;VALUE=DATE:20240402
DTSTAMP:20260420T163626
CREATED:20240308T092552Z
LAST-MODIFIED:20240310T150750Z
UID:10002652-1709942400-1712015999@langhuus.ch
SUMMARY:ICELAND - Fotoausstellung
DESCRIPTION:Man steht da und hat das Gefühl\, dass man bei der Geburt der Erde dabei ist ! \nEs zischt und dampft aus einer Erdspalte\, riecht leicht nach Schwefel und im Hintergrund stehen einige wilde Schafe im kargen Gras vor bemoosten Steinen. Im Sommer 2009 hat Thierry B. Iceland umrundet und unzählige Bilder geschossen\, Gespräche mit Einheimischen geführt und kurze Texte geschrieben. Flora und Fauna sehen auf den ersten Blick sehr beschränkt aus\, aber es gibt unzählige Moose\, die das Vulkangestein überziehen. Man ist am Strand\, kurze Zeit später in einer Mondlandschaft\, und dann fühlt man sich in der Steppe oder auf einem Alpenpass. Der kurze Sommer hat viele Gesichter und es ist gut möglich\, dass man am selben Tag von Null bis Achtzehn Grad Temperatur alles erlebt. Einige Sonnenstrahlen\, die den peitschenden Wind vergessen lassen\, machen die Inselbewohner bereits glücklich. Die brodelnden Vulkane lassen uns wissen\, wie fragil und trügerisch eine Ruhephase sein kann. \n«Das letzte Bild habe ich nicht geschossen\,» meint der Photograph\, «ich habe das Stativ wieder eingepackt und mir vorgenommen\, dieses nordische Paradies bald wieder zu besuchen.» \nThierry B. ist Architektur- und Portrait-Photograph und betätigt sich in einem Teilzeit-Pensum auch als Dozent in der Erwachsenenbildung für Wirtschaftsthemen. Er ist in Luzern aufgewachsen\, wohnt seit vielen Jahren in Cham und betreibt seit 2015 ein Photostudio in Lindencham. \n  \nAusstellung vom 9.3.-1.4.2024\nin der Langhuus Kulturfabrik Cham \n  \nICELAND – Führung durch die Fotoausstellung \n \n  \nWeitere Auskünfte und Preise nach Anfrage. \nthierryb.ch
URL:https://langhuus.ch/blog/event/iceland-fotoausstellung/
LOCATION:Langhuus Kulturfabrik Cham\, Fabrikstrasse 9\, Cham\, 6330\, Schweiz
CATEGORIES:Ausstellung,Fotografie
ATTACH;FMTTYPE=image/png:https://langhuus.ch/blog/wp-content/uploads/2024/03/Thierry.png
ORGANIZER;CN="Verein Langhuus Kulturfabrik":MAILTO:info@langhuus.ch
END:VEVENT
BEGIN:VEVENT
DTSTART;TZID=Europe/Zurich:20240313T123000
DTEND;TZID=Europe/Zurich:20240313T133000
DTSTAMP:20260420T163626
CREATED:20240305T195559Z
LAST-MODIFIED:20240312T143820Z
UID:10002381-1710333000-1710336600@langhuus.ch
SUMMARY:Zmittag
DESCRIPTION:Auf Euch wartet „Aloo Khadi“\, ein nordindisches Gericht aus Rajasthan. Mit kräftigen Gewürzen geröstete Kartoffeln werden in einer sämigen Sauce aus Kichererbsenmehl und Joghurt mit Curryblättern an Basmatireis serviert. Eine echte Spezialität\, die entdeckt werden will. \nLasst uns gerne bis Dienstag wissen\, ob Ihr kommen könnt. \nWir freuen uns auf Euch. \nLiebe Grüsse und auf bald \ndie My Elephant Kitchen Family \nWichtiger Hinweis: Ab jetzt beginnt das Zmittag um 12.30 Uhr und kostet 25\,- CHF. \nJeden Mittwoch serviert My Elephant Kitchen im Langhuus ein feines Menu. \nAnmeldung via WhatsApp bis Dienstag Mittag. \n 
URL:https://langhuus.ch/blog/event/zmittag-9-3/
LOCATION:Langhuus Kulturfabrik Cham\, Fabrikstrasse 9\, Cham\, 6330\, Schweiz
CATEGORIES:Gesellschaft/Gemeinschaft,Kulinarik,Mittagessen,Zmittag
ATTACH;FMTTYPE=image/png:https://langhuus.ch/blog/wp-content/uploads/2023/09/medk_banner.png
END:VEVENT
BEGIN:VEVENT
DTSTART;TZID=Europe/Zurich:20240313T190000
DTEND;TZID=Europe/Zurich:20240313T210000
DTSTAMP:20260420T163626
CREATED:20231006T114935Z
LAST-MODIFIED:20250611T081618Z
UID:10001903-1710356400-1710363600@langhuus.ch
SUMMARY:PingPong
DESCRIPTION:Jeden 2. und 4. Mittwoch im Monat flitzt der weisse Ball über den PingPong Tisch. Sei dabei.
URL:https://langhuus.ch/blog/event/pinpong-3/2024-03-13/
CATEGORIES:Spiele,Sport
ATTACH;FMTTYPE=image/png:https://langhuus.ch/blog/wp-content/uploads/2022/10/noun-pingpong-2411195-FF59B9.png
END:VEVENT
BEGIN:VEVENT
DTSTART;TZID=Europe/Zurich:20240315T190000
DTEND;TZID=Europe/Zurich:20240315T230000
DTSTAMP:20260420T163626
CREATED:20231121T203336Z
LAST-MODIFIED:20231121T203338Z
UID:10002042-1710529200-1710543600@langhuus.ch
SUMMARY:Friitig Bar
DESCRIPTION:
URL:https://langhuus.ch/blog/event/friitig-bar-3/2024-03-15/
LOCATION:Langhuus Kulturfabrik Cham\, Fabrikstrasse 9\, Cham\, 6330\, Schweiz
CATEGORIES:Barbetrieb,Gesellschaft/Gemeinschaft
ATTACH;FMTTYPE=image/png:https://langhuus.ch/blog/wp-content/uploads/2023/04/noun-beer-1821205-FF59B9.png
ORGANIZER;CN="Verein Langhuus Kulturfabrik":MAILTO:info@langhuus.ch
END:VEVENT
BEGIN:VEVENT
DTSTART;TZID=Europe/Zurich:20240315T200000
DTEND;TZID=Europe/Zurich:20240316T010000
DTSTAMP:20260420T163626
CREATED:20240129T122823Z
LAST-MODIFIED:20240301T114723Z
UID:10002376-1710532800-1710550800@langhuus.ch
SUMMARY:Noche de SALSA\, BACHATA y MERENGUE
DESCRIPTION:DJ Benjamin Possú \nEssen: Empanadas Colombianas
URL:https://langhuus.ch/blog/event/noche-de-salsa-bachata-y-merengue-2/
LOCATION:Langhuus Kulturfabrik Cham\, Fabrikstrasse 9\, Cham\, 6330\, Schweiz
CATEGORIES:Kulinarik,Tanzen
ATTACH;FMTTYPE=image/png:https://langhuus.ch/blog/wp-content/uploads/2023/08/noun-dance-746531-FA59B9.png
ORGANIZER;CN="Verein Langhuus Kulturfabrik":MAILTO:info@langhuus.ch
END:VEVENT
BEGIN:VEVENT
DTSTART;TZID=Europe/Zurich:20240317T110000
DTEND;TZID=Europe/Zurich:20240317T120000
DTSTAMP:20260420T163626
CREATED:20240310T145603Z
LAST-MODIFIED:20240310T151416Z
UID:10002653-1710673200-1710676800@langhuus.ch
SUMMARY:ICELAND - Führung durch die Fotoausstellung
DESCRIPTION:Thierry Burgherr führt durch seine Fotoausstellung \n  \n 
URL:https://langhuus.ch/blog/event/iceland-fuehrung-durch-die-fotoausstellung/
LOCATION:Langhuus Kulturfabrik Cham\, Fabrikstrasse 9\, Cham\, 6330\, Schweiz
CATEGORIES:Ausstellung,Fotografie
ATTACH;FMTTYPE=image/png:https://langhuus.ch/blog/wp-content/uploads/2024/03/Thierry.png
ORGANIZER;CN="Verein Langhuus Kulturfabrik":MAILTO:info@langhuus.ch
END:VEVENT
BEGIN:VEVENT
DTSTART;TZID=Europe/Zurich:20240319T193000
DTEND;TZID=Europe/Zurich:20240319T220000
DTSTAMP:20260420T163626
CREATED:20240312T182508Z
LAST-MODIFIED:20240312T182508Z
UID:10002654-1710876600-1710885600@langhuus.ch
SUMMARY:7. Generalversammlung des Vereins IG Langhuus
DESCRIPTION:Eingeladen sind alle Mitglieder der IG Langhuus (auch stimmberechtigt) und natürlich weitere interessierte Personen \n  \nVorsitz: Geri Werder \nProtokoll: Roman Ambühl \n  \n1. Begrüssung \n2. Wahl der Stimmenzählenden \n3. Protokoll GV 2023 \n4. Jahresrückblick \n5. Finanzen und Revisionsbericht \n6. Wahl des Vorstandes/Ämter und RevisorInnen \n7. Ausblick und Budget \n8. Varia
URL:https://langhuus.ch/blog/event/7-generalversammlung-des-vereins-ig-langhuus/
LOCATION:Langhuus Kulturfabrik Cham\, Fabrikstrasse 9\, Cham\, 6330\, Schweiz
CATEGORIES:Gesellschaft/Gemeinschaft
ATTACH;FMTTYPE=image/png:https://langhuus.ch/blog/wp-content/uploads/2023/02/cropped-lh_logo_square_giraffe_big.png
ORGANIZER;CN="Verein Langhuus Kulturfabrik":MAILTO:info@langhuus.ch
END:VEVENT
BEGIN:VEVENT
DTSTART;TZID=Europe/Zurich:20240320T123000
DTEND;TZID=Europe/Zurich:20240320T133000
DTSTAMP:20260420T163626
CREATED:20240319T141428Z
LAST-MODIFIED:20240319T141429Z
UID:10002382-1710937800-1710941400@langhuus.ch
SUMMARY:Zmittag
DESCRIPTION:Jeden Mittwoch serviert My Elephant Kitchen im Langhuus ein feines Menu. \nAnmeldung via WhatsApp bis Dienstag Mittag. \n 
URL:https://langhuus.ch/blog/event/zmittag-9-4/
LOCATION:Langhuus Kulturfabrik Cham\, Fabrikstrasse 9\, Cham\, 6330\, Schweiz
CATEGORIES:Gesellschaft/Gemeinschaft,Kulinarik,Mittagessen,Zmittag
ATTACH;FMTTYPE=image/png:https://langhuus.ch/blog/wp-content/uploads/2023/09/medk_banner.png
END:VEVENT
BEGIN:VEVENT
DTSTART;TZID=Europe/Zurich:20240320T190000
DTEND;TZID=Europe/Zurich:20240320T210000
DTSTAMP:20260420T163626
CREATED:20231123T165958Z
LAST-MODIFIED:20231123T170032Z
UID:10002288-1710961200-1710968400@langhuus.ch
SUMMARY:Lebendige Artenvielfalt in Cham
DESCRIPTION:In 2024 möchten wir in einem erweiterten Kursformat Erfahrungen und Ideen weitergeben\, wie sich Landwirtschaft und Naturschutz ergänzen und zu höherer Biodiversität beitragen können. Es werden Einblicke in die spannende Welt der Pflanzen und Tiere in unserer Gemeinde vermittelt sowie die erfolgreiche Integration von ökologischen Flächen in der Landwirtschaft aufgezeigt. Anregungen für den eigenen Garten oder Balkon und Tipps\, wie jeder selber für mehr Artenreichtum sorgen kann\, werden nicht fehlen. Eine Veranstaltung für alle Naturinteressierten\, auch Familien mit Kindern ab 8 Jahren sind herzlich willkommen! \nKursleitung: Raymund Gmünder (Landwirtschaft)\, Ueli Mauch (Botanik) und Stefan Rother (Fauna)\, unterstützt von den Vereinen LLC und Langhuus \nTermine 2024: 20. & 23. März\, 22. & 25. Mai sowie 11. & 14. September\, jeweils mittwochs & samstags (Monatsmodule sind einzeln buchbar) \nOrte: Langhuus/Cham (Mittwochs\, 19.00-21.30\, Vorbereitung zur Exkursion)\, Biotop Hatwil (Treffpunkt 09.45 an der Niederwiler Kirche\, Dauer ca. 3 h mit abschliessendem Picknick (Getränke & Essen bitte selbst mitbringen) \nTeilnehmerzahl: Max. 30 Personen\, Berücksichtigung nach Eingang der Anmeldungen unter kontakt@landschaftcham.ch \nEintritt: 20 CHF pro Person pro Wochen-Modul\, kostenfrei für Kinder sowie für Mitglieder von LLC & Langhuus
URL:https://langhuus.ch/blog/event/lebendige-artenvielfalt-in-cham/2024-03-20/
LOCATION:Langhuus Kulturfabrik Cham\, Fabrikstrasse 9\, Cham\, 6330\, Schweiz
CATEGORIES:Natur,Workshop
ATTACH;FMTTYPE=image/png:https://langhuus.ch/blog/wp-content/uploads/2023/11/lh_lebendige_vielfalt_2024_3.png
ORGANIZER;CN="Lebensraum Landschaft Cham":MAILTO:kontakt@landschaftcham.ch
END:VEVENT
BEGIN:VEVENT
DTSTART;TZID=Europe/Zurich:20240321T190000
DTEND;TZID=Europe/Zurich:20240321T220000
DTSTAMP:20260420T163626
CREATED:20240319T082818Z
LAST-MODIFIED:20240425T200251Z
UID:10002316-1711047600-1711058400@langhuus.ch
SUMMARY:Musik Kreis
DESCRIPTION:=== abgesagt wegen geschlossener Veranstaltung === \nHeute möchte ich Ihnen die Praxis vorstellen\, den Rhythmus zu spüren. Man nennt es einen Musikkreis\, etwas Ähnliches\, das unsere Vorfahren vor vielen Jahren taten\, als sie anfingen\, Musikinstrumente zu lernen. Wir haben viele Musikinstrumente\, bei denen es nur darauf ankommt\, den Rhythmus zu spüren. Die Regel dieser Runde ist einfach: Sie müssen sich gegenseitig hören\, um eine Resonanz im Klang zu erzeugen. Wir werden auch versuchen\, unsere Stimme als rhythmische Klangquelle zu nutzen und beim Singen Resonanz zu erzeugen. \nEnnio Solomko – Künstler\, Musiker\, Performer.\nInstagram: @‌dobryinamir
URL:https://langhuus.ch/blog/event/musik-kreis-2/
LOCATION:Langhuus Kulturfabrik Cham\, Fabrikstrasse 9\, Cham\, 6330\, Schweiz
ATTACH;FMTTYPE=image/png:https://langhuus.ch/blog/wp-content/uploads/2024/01/noun-gong-4847093-FF59B9.png
ORGANIZER;CN="Verein Langhuus Kulturfabrik":MAILTO:info@langhuus.ch
END:VEVENT
BEGIN:VEVENT
DTSTART;TZID=Europe/Zurich:20240322T190000
DTEND;TZID=Europe/Zurich:20240322T230000
DTSTAMP:20260420T163626
CREATED:20231121T203336Z
LAST-MODIFIED:20231121T203338Z
UID:10002043-1711134000-1711148400@langhuus.ch
SUMMARY:Friitig Bar
DESCRIPTION:
URL:https://langhuus.ch/blog/event/friitig-bar-3/2024-03-22/
LOCATION:Langhuus Kulturfabrik Cham\, Fabrikstrasse 9\, Cham\, 6330\, Schweiz
CATEGORIES:Barbetrieb,Gesellschaft/Gemeinschaft
ATTACH;FMTTYPE=image/png:https://langhuus.ch/blog/wp-content/uploads/2023/04/noun-beer-1821205-FF59B9.png
ORGANIZER;CN="Verein Langhuus Kulturfabrik":MAILTO:info@langhuus.ch
END:VEVENT
BEGIN:VEVENT
DTSTART;TZID=Europe/Zurich:20240322T193000
DTEND;TZID=Europe/Zurich:20240322T210000
DTSTAMP:20260420T163626
CREATED:20240129T120233Z
LAST-MODIFIED:20240129T123238Z
UID:10002375-1711135800-1711141200@langhuus.ch
SUMMARY:Damenwahl und Herrenbesuch - Märchen erzählt für Erwachsene
DESCRIPTION:Märchenblick auf Geschichten von Frauen und Männern in alten Zeiten \nWill sie oder will sie nicht\,- kommt er oder kommt er nicht…? Zu allen Zeiten haben diese und viele weitere Fragen Männer und Frauen auf dem Weg miteinander und zueinander beschäftigt und in unzähligen Märchen wird erzählt\, wie sie damit umgegangen sind. In vielen Mann-Frau-Situationen brauchte es großes Geschick\, Konventionen zu umgehen. Es brauchte Mut\, Ausdauer und innere Stärke\, oft aber auch eine Portion List oder einfach Optimismus\, damit sich schließlich alles zum Guten wenden konnte. \nGerne erzählen wir Ihnen davon und freuen uns\, wenn wir Sie damit zum Schmunzeln und Nachdenken\, zum Lachen\,- und\,- wer weiss\,- sogar auch zum Lernen bringen dürfen. Will er oder will er nicht\,- kommt sie oder kommt sie nicht? \nWir\, das sind Christel Müller und Ursula Kaufmann\, beide begeisterte Abendspinnerinnen (www.abendspinnereien.ch) und Mitglied im Netzwerk der Mutabor-Märchenkultur (www.maerchenstiftung.ch) \nDie Abendspinnereien Luzern pflegen die Märchen-Erzählkunst bereits seit 2006. In diesem Jahr gastieren einige „Abendspinnerinnen“ jedoch erstmals auch außerhalb der gewohnten Bühnen in Luzern und so freuen wir beide uns auf den Abend im Langhuus in Cham! \nHerzlich willkommen!
URL:https://langhuus.ch/blog/event/damenwahl-und-herrenbesuch-maerchen-erzaehlt-fuer-erwachsene/
LOCATION:Langhuus Kulturfabrik Cham\, Fabrikstrasse 9\, Cham\, 6330\, Schweiz
CATEGORIES:Lesungen
ATTACH;FMTTYPE=image/jpeg:https://langhuus.ch/blog/wp-content/uploads/2024/01/lovers-3967593_1280-mit-Schirm.jpg
ORGANIZER;CN="Verein Langhuus Kulturfabrik":MAILTO:info@langhuus.ch
END:VEVENT
BEGIN:VEVENT
DTSTART;TZID=Europe/Zurich:20240324T100000
DTEND;TZID=Europe/Zurich:20240324T130000
DTSTAMP:20260420T163626
CREATED:20240218T152553Z
LAST-MODIFIED:20240218T153512Z
UID:10002639-1711274400-1711285200@langhuus.ch
SUMMARY:Bärenkräfte tanken – alles mit und über Bärlauch
DESCRIPTION:Wir bestimmen Bärlauch und unterscheiden ihn von giftigen Doppelgängern. Wir sammeln Bärlauch im Städtlerwald und stellen anschliessend im Langhuus Bärlauchspezialitäten zum Degustieren und zum Mitnehmen her. \nTreffpunkt: 10:00 Langhuus ChamSchluss: ca. 13:00Kosten: Fr. 25.- \nMitnehmen: Schere\, evtl. Kochschürze\, Dosen zum Mitnehmen der Bärlauchvariationen \nVeranstaltet von taraxxacum.ch „Unterwegs mit Wildpflanzen“ \nNicht säen\, düngen\, jäten und doch ernten – ist das nicht wunderbar?! \n \nAuf vielen Streifzügen durch die Natur habe ich die Liebe zu Kräutern\, Wurzeln\, Beeren und Blüten entdeckt. Je mehr ich weiss\, desto faszinierender wird die Welt vor meiner Haustür\, in den Wäldern der Umgebung und in den Bergen. Spätestens seit der Ausbildung zur Heilpflanzenfachfrau TEN (Traditionelle Europäische Naturheilkunde) bei Brigitte Waser-Bürgi in Sattel setze ich einen grossen Teil meiner freien Zeit für das Sammeln und Verarbeiten der Heilpflanzen ein.  \nRegula Stillhart \nregula@taraxxacum.ch +41 79 373 69 20 \n 
URL:https://langhuus.ch/blog/event/baerenkraefte-tanken-alles-mit-und-ueber-baerlauch/
LOCATION:Langhuus Kulturfabrik Cham\, Fabrikstrasse 9\, Cham\, 6330\, Schweiz
CATEGORIES:Kulinarik,Mittagessen,Nachhaltigkeit,Natur,Workshop
ATTACH;FMTTYPE=image/jpeg:https://langhuus.ch/blog/wp-content/uploads/2024/02/kraeuter_taraxxacum.jpeg
ORGANIZER;CN="taraxxacum":MAILTO:regula@taraxxacum.ch
END:VEVENT
BEGIN:VEVENT
DTSTART;TZID=Europe/Zurich:20240327T123000
DTEND;TZID=Europe/Zurich:20240327T133000
DTSTAMP:20260420T163626
CREATED:20231126T031020Z
LAST-MODIFIED:20240216T163153Z
UID:10002383-1711542600-1711546200@langhuus.ch
SUMMARY:Zmittag
DESCRIPTION:Jeden Mittwoch serviert My Elephant Kitchen im Langhuus ein feines Menu. \nAnmeldung via WhatsApp bis Dienstag Mittag. \n 
URL:https://langhuus.ch/blog/event/zmittag-9/2024-03-27/
LOCATION:Langhuus Kulturfabrik Cham\, Fabrikstrasse 9\, Cham\, 6330\, Schweiz
CATEGORIES:Gesellschaft/Gemeinschaft,Kulinarik,Mittagessen,Zmittag
ATTACH;FMTTYPE=image/png:https://langhuus.ch/blog/wp-content/uploads/2023/09/medk_banner.png
END:VEVENT
BEGIN:VEVENT
DTSTART;TZID=Europe/Zurich:20240327T190000
DTEND;TZID=Europe/Zurich:20240327T210000
DTSTAMP:20260420T163626
CREATED:20231006T114756Z
LAST-MODIFIED:20240301T084525Z
UID:10001785-1711566000-1711573200@langhuus.ch
SUMMARY:PingPong
DESCRIPTION:Jeden 2. und 4. Mittwoch im Monat flitzt der weisse Ball über den PingPong Tisch. Sei dabei.
URL:https://langhuus.ch/blog/event/pinpong-2/2024-03-27/
LOCATION:Langhuus Kulturfabrik Cham\, Fabrikstrasse 9\, Cham\, 6330\, Schweiz
CATEGORIES:Spiele,Sport
ATTACH;FMTTYPE=image/png:https://langhuus.ch/blog/wp-content/uploads/2022/10/noun-pingpong-2411195-FF59B9.png
END:VEVENT
BEGIN:VEVENT
DTSTART;TZID=Europe/Zurich:20240329T190000
DTEND;TZID=Europe/Zurich:20240329T230000
DTSTAMP:20260420T163626
CREATED:20231121T203336Z
LAST-MODIFIED:20231121T203338Z
UID:10002044-1711738800-1711753200@langhuus.ch
SUMMARY:Friitig Bar
DESCRIPTION:
URL:https://langhuus.ch/blog/event/friitig-bar-3/2024-03-29/
LOCATION:Langhuus Kulturfabrik Cham\, Fabrikstrasse 9\, Cham\, 6330\, Schweiz
CATEGORIES:Barbetrieb,Gesellschaft/Gemeinschaft
ATTACH;FMTTYPE=image/png:https://langhuus.ch/blog/wp-content/uploads/2023/04/noun-beer-1821205-FF59B9.png
ORGANIZER;CN="Verein Langhuus Kulturfabrik":MAILTO:info@langhuus.ch
END:VEVENT
END:VCALENDAR