BEGIN:VCALENDAR
VERSION:2.0
PRODID:-//Langhuus Kulturfabrik Cham - ECPv6.15.20//NONSGML v1.0//EN
CALSCALE:GREGORIAN
METHOD:PUBLISH
X-WR-CALNAME:Langhuus Kulturfabrik Cham
X-ORIGINAL-URL:https://langhuus.ch/blog
X-WR-CALDESC:Veranstaltungen für Langhuus Kulturfabrik Cham
REFRESH-INTERVAL;VALUE=DURATION:PT1H
X-Robots-Tag:noindex
X-PUBLISHED-TTL:PT1H
BEGIN:VTIMEZONE
TZID:Europe/Zurich
BEGIN:DAYLIGHT
TZOFFSETFROM:+0100
TZOFFSETTO:+0200
TZNAME:CEST
DTSTART:20230326T010000
END:DAYLIGHT
BEGIN:STANDARD
TZOFFSETFROM:+0200
TZOFFSETTO:+0100
TZNAME:CET
DTSTART:20231029T010000
END:STANDARD
BEGIN:DAYLIGHT
TZOFFSETFROM:+0100
TZOFFSETTO:+0200
TZNAME:CEST
DTSTART:20240331T010000
END:DAYLIGHT
BEGIN:STANDARD
TZOFFSETFROM:+0200
TZOFFSETTO:+0100
TZNAME:CET
DTSTART:20241027T010000
END:STANDARD
BEGIN:DAYLIGHT
TZOFFSETFROM:+0100
TZOFFSETTO:+0200
TZNAME:CEST
DTSTART:20250330T010000
END:DAYLIGHT
BEGIN:STANDARD
TZOFFSETFROM:+0200
TZOFFSETTO:+0100
TZNAME:CET
DTSTART:20251026T010000
END:STANDARD
END:VTIMEZONE
BEGIN:VEVENT
DTSTART;TZID=Europe/Zurich:20240201T200000
DTEND;TZID=Europe/Zurich:20240201T220000
DTSTAMP:20260422T105221
CREATED:20230504T073323Z
LAST-MODIFIED:20230813T084229Z
UID:10001279-1706817600-1706824800@langhuus.ch
SUMMARY:Jam Session
DESCRIPTION:Schlagzeug und PA stehen bereit.\nHast du deine Gitarre schon gestimmt?
URL:https://langhuus.ch/blog/event/jam-session-6/2024-02-01/
LOCATION:Langhuus Kulturfabrik Cham\, Fabrikstrasse 9\, Cham\, 6330\, Schweiz
CATEGORIES:Gesang,Konzert/Live-Musik,Workshop
ATTACH;FMTTYPE=image/png:https://langhuus.ch/blog/wp-content/uploads/2022/05/noun-sound-4850649-F559BA.png
ORGANIZER;CN="Verein Langhuus Kulturfabrik":MAILTO:info@langhuus.ch
END:VEVENT
BEGIN:VEVENT
DTSTART;TZID=Europe/Zurich:20240202T190000
DTEND;TZID=Europe/Zurich:20240202T230000
DTSTAMP:20260422T105221
CREATED:20231121T203336Z
LAST-MODIFIED:20231121T203338Z
UID:10002036-1706900400-1706914800@langhuus.ch
SUMMARY:Friitig Bar
DESCRIPTION:
URL:https://langhuus.ch/blog/event/friitig-bar-3/2024-02-02/
LOCATION:Langhuus Kulturfabrik Cham\, Fabrikstrasse 9\, Cham\, 6330\, Schweiz
CATEGORIES:Barbetrieb,Gesellschaft/Gemeinschaft
ATTACH;FMTTYPE=image/png:https://langhuus.ch/blog/wp-content/uploads/2023/04/noun-beer-1821205-FF59B9.png
ORGANIZER;CN="Verein Langhuus Kulturfabrik":MAILTO:info@langhuus.ch
END:VEVENT
BEGIN:VEVENT
DTSTART;TZID=Europe/Zurich:20240204T110000
DTEND;TZID=Europe/Zurich:20240204T130000
DTSTAMP:20260422T105221
CREATED:20240207T104208Z
LAST-MODIFIED:20260306T080202Z
UID:10000737-1707044400-1707051600@langhuus.ch
SUMMARY:Philo Runde
DESCRIPTION:Komm vorbei für einen philosophischen Austausch. Das Thema bestimmen wir vor Ort oder auch via vorherige Abstimmung in der TELEGRAM Gruppe „Langhuus Philo Runde„
URL:https://langhuus.ch/blog/event/philo-runde-april-2023-3/2024-02-04/
LOCATION:Langhuus Kulturfabrik Cham\, Fabrikstrasse 9\, Cham\, 6330\, Schweiz
CATEGORIES:Gesellschaft/Gemeinschaft,Philosophie/Gespräche
ATTACH;FMTTYPE=image/png:https://langhuus.ch/blog/wp-content/uploads/2022/06/noun-thinker-783600-FF59B9.png
ORGANIZER;CN="Verein Langhuus Kulturfabrik":MAILTO:info@langhuus.ch
END:VEVENT
BEGIN:VEVENT
DTSTART;TZID=Europe/Zurich:20240209T190000
DTEND;TZID=Europe/Zurich:20240209T230000
DTSTAMP:20260422T105221
CREATED:20231121T203336Z
LAST-MODIFIED:20231121T203338Z
UID:10002037-1707505200-1707519600@langhuus.ch
SUMMARY:Friitig Bar
DESCRIPTION:
URL:https://langhuus.ch/blog/event/friitig-bar-3/2024-02-09/
LOCATION:Langhuus Kulturfabrik Cham\, Fabrikstrasse 9\, Cham\, 6330\, Schweiz
CATEGORIES:Barbetrieb,Gesellschaft/Gemeinschaft
ATTACH;FMTTYPE=image/png:https://langhuus.ch/blog/wp-content/uploads/2023/04/noun-beer-1821205-FF59B9.png
ORGANIZER;CN="Verein Langhuus Kulturfabrik":MAILTO:info@langhuus.ch
END:VEVENT
BEGIN:VEVENT
DTSTART;VALUE=DATE:20240214
DTEND;VALUE=DATE:20240229
DTSTAMP:20260422T105221
CREATED:20240117T181429Z
LAST-MODIFIED:20240117T181429Z
UID:10002314-1707868800-1709164799@langhuus.ch
SUMMARY:Ausstellung Erika Brügger Hansen
DESCRIPTION:
URL:https://langhuus.ch/blog/event/ausstellung-erika-bruegger-hansen/
LOCATION:Langhuus Kulturfabrik Cham\, Fabrikstrasse 9\, Cham\, 6330\, Schweiz
CATEGORIES:Ausstellung,Kunst
ATTACH;FMTTYPE=image/png:https://langhuus.ch/blog/wp-content/uploads/2024/01/lh_erika_feb_2024_k.png
ORGANIZER;CN="Verein Langhuus Kulturfabrik":MAILTO:info@langhuus.ch
END:VEVENT
BEGIN:VEVENT
DTSTART;TZID=Europe/Zurich:20240214T190000
DTEND;TZID=Europe/Zurich:20240214T210000
DTSTAMP:20260422T105221
CREATED:20231006T114935Z
LAST-MODIFIED:20250611T081618Z
UID:10001902-1707937200-1707944400@langhuus.ch
SUMMARY:PingPong
DESCRIPTION:Jeden 2. und 4. Mittwoch im Monat flitzt der weisse Ball über den PingPong Tisch. Sei dabei.
URL:https://langhuus.ch/blog/event/pinpong-3/2024-02-14/
CATEGORIES:Spiele,Sport
ATTACH;FMTTYPE=image/png:https://langhuus.ch/blog/wp-content/uploads/2022/10/noun-pingpong-2411195-FF59B9.png
END:VEVENT
BEGIN:VEVENT
DTSTART;TZID=Europe/Zurich:20240215T190000
DTEND;TZID=Europe/Zurich:20240215T220000
DTSTAMP:20260422T105221
CREATED:20240123T084405Z
LAST-MODIFIED:20240829T131617Z
UID:10002315-1708023600-1708034400@langhuus.ch
SUMMARY:Musik Kreis
DESCRIPTION:Heute möchte ich Ihnen die Praxis vorstellen\, den Rhythmus zu spüren. Man nennt es einen Musikkreis\, etwas Ähnliches\, das unsere Vorfahren vor vielen Jahren taten\, als sie anfingen\, Musikinstrumente zu lernen. Wir haben viele Musikinstrumente\, bei denen es nur darauf ankommt\, den Rhythmus zu spüren. Die Regel dieser Runde ist einfach: Sie müssen sich gegenseitig hören\, um eine Resonanz im Klang zu erzeugen. Wir werden auch versuchen\, unsere Stimme als rhythmische Klangquelle zu nutzen und beim Singen Resonanz zu erzeugen. \nEnnio – Künstler\, Musiker\, Performer.\nInstagram: @‌dobryinamir
URL:https://langhuus.ch/blog/event/musik-kreis/2024-02-15/
LOCATION:Langhuus Kulturfabrik Cham\, Fabrikstrasse 9\, Cham\, 6330\, Schweiz
ATTACH;FMTTYPE=image/png:https://langhuus.ch/blog/wp-content/uploads/2024/01/noun-gong-4847093-FF59B9.png
ORGANIZER;CN="Verein Langhuus Kulturfabrik":MAILTO:info@langhuus.ch
END:VEVENT
BEGIN:VEVENT
DTSTART;TZID=Europe/Zurich:20240216T190000
DTEND;TZID=Europe/Zurich:20240216T230000
DTSTAMP:20260422T105221
CREATED:20231121T203336Z
LAST-MODIFIED:20231121T203338Z
UID:10002038-1708110000-1708124400@langhuus.ch
SUMMARY:Friitig Bar
DESCRIPTION:
URL:https://langhuus.ch/blog/event/friitig-bar-3/2024-02-16/
LOCATION:Langhuus Kulturfabrik Cham\, Fabrikstrasse 9\, Cham\, 6330\, Schweiz
CATEGORIES:Barbetrieb,Gesellschaft/Gemeinschaft
ATTACH;FMTTYPE=image/png:https://langhuus.ch/blog/wp-content/uploads/2023/04/noun-beer-1821205-FF59B9.png
ORGANIZER;CN="Verein Langhuus Kulturfabrik":MAILTO:info@langhuus.ch
END:VEVENT
BEGIN:VEVENT
DTSTART;TZID=Europe/Zurich:20240223T190000
DTEND;TZID=Europe/Zurich:20240223T230000
DTSTAMP:20260422T105221
CREATED:20231121T203336Z
LAST-MODIFIED:20231121T203338Z
UID:10002039-1708714800-1708729200@langhuus.ch
SUMMARY:Friitig Bar
DESCRIPTION:
URL:https://langhuus.ch/blog/event/friitig-bar-3/2024-02-23/
LOCATION:Langhuus Kulturfabrik Cham\, Fabrikstrasse 9\, Cham\, 6330\, Schweiz
CATEGORIES:Barbetrieb,Gesellschaft/Gemeinschaft
ATTACH;FMTTYPE=image/png:https://langhuus.ch/blog/wp-content/uploads/2023/04/noun-beer-1821205-FF59B9.png
ORGANIZER;CN="Verein Langhuus Kulturfabrik":MAILTO:info@langhuus.ch
END:VEVENT
BEGIN:VEVENT
DTSTART;TZID=Europe/Zurich:20240228T190000
DTEND;TZID=Europe/Zurich:20240228T210000
DTSTAMP:20260422T105221
CREATED:20231006T114756Z
LAST-MODIFIED:20240301T084525Z
UID:10001784-1709146800-1709154000@langhuus.ch
SUMMARY:PingPong
DESCRIPTION:Jeden 2. und 4. Mittwoch im Monat flitzt der weisse Ball über den PingPong Tisch. Sei dabei.
URL:https://langhuus.ch/blog/event/pinpong-2/2024-02-28/
LOCATION:Langhuus Kulturfabrik Cham\, Fabrikstrasse 9\, Cham\, 6330\, Schweiz
CATEGORIES:Spiele,Sport
ATTACH;FMTTYPE=image/png:https://langhuus.ch/blog/wp-content/uploads/2022/10/noun-pingpong-2411195-FF59B9.png
END:VEVENT
END:VCALENDAR