BEGIN:VCALENDAR
VERSION:2.0
PRODID:-//Langhuus Kulturfabrik Cham - ECPv6.15.20//NONSGML v1.0//EN
CALSCALE:GREGORIAN
METHOD:PUBLISH
X-WR-CALNAME:Langhuus Kulturfabrik Cham
X-ORIGINAL-URL:https://langhuus.ch/blog
X-WR-CALDESC:Veranstaltungen für Langhuus Kulturfabrik Cham
REFRESH-INTERVAL;VALUE=DURATION:PT1H
X-Robots-Tag:noindex
X-PUBLISHED-TTL:PT1H
BEGIN:VTIMEZONE
TZID:Europe/Zurich
BEGIN:DAYLIGHT
TZOFFSETFROM:+0100
TZOFFSETTO:+0200
TZNAME:CEST
DTSTART:20220327T010000
END:DAYLIGHT
BEGIN:STANDARD
TZOFFSETFROM:+0200
TZOFFSETTO:+0100
TZNAME:CET
DTSTART:20221030T010000
END:STANDARD
BEGIN:DAYLIGHT
TZOFFSETFROM:+0100
TZOFFSETTO:+0200
TZNAME:CEST
DTSTART:20230326T010000
END:DAYLIGHT
BEGIN:STANDARD
TZOFFSETFROM:+0200
TZOFFSETTO:+0100
TZNAME:CET
DTSTART:20231029T010000
END:STANDARD
BEGIN:DAYLIGHT
TZOFFSETFROM:+0100
TZOFFSETTO:+0200
TZNAME:CEST
DTSTART:20240331T010000
END:DAYLIGHT
BEGIN:STANDARD
TZOFFSETFROM:+0200
TZOFFSETTO:+0100
TZNAME:CET
DTSTART:20241027T010000
END:STANDARD
END:VTIMEZONE
BEGIN:VEVENT
DTSTART;TZID=Europe/Zurich:20231001T110000
DTEND;TZID=Europe/Zurich:20231001T130000
DTSTAMP:20260423T195154
CREATED:20230227T163217Z
LAST-MODIFIED:20230705T104209Z
UID:10000733-1696158000-1696165200@langhuus.ch
SUMMARY:Philo Runde
DESCRIPTION:Komm vorbei für einen philosophischen Austausch. Das Thema bestimmen wir vor Ort.
URL:https://langhuus.ch/blog/event/philo-runde-april-2023/2023-10-01/
LOCATION:Langhuus Kulturfabrik Cham\, Fabrikstrasse 9\, Cham\, 6330\, Schweiz
CATEGORIES:Gesellschaft/Gemeinschaft,Philosophie/Gespräche
ATTACH;FMTTYPE=image/png:https://langhuus.ch/blog/wp-content/uploads/2022/06/noun-thinker-783600-FF59B9.png
ORGANIZER;CN="Verein Langhuus Kulturfabrik":MAILTO:info@langhuus.ch
END:VEVENT
BEGIN:VEVENT
DTSTART;TZID=Europe/Zurich:20231004T120000
DTEND;TZID=Europe/Zurich:20231004T130000
DTSTAMP:20260423T195154
CREATED:20230925T095624Z
LAST-MODIFIED:20230925T130316Z
UID:10001508-1696420800-1696424400@langhuus.ch
SUMMARY:Zmittag
DESCRIPTION:Zum Auftakt des Langhuus Zmittag mit My Elephant Kitchen verwöhnen wir Euch mit Rajma Chawal\, einer Spezialität aus dem Norden Indiens. \nRajma Chawal ist ein würzig cremiges Kidneybohnencurry\, seviert mit Basmatikreuzkümmelreis und unserem Raita\, einem indischen Joghurtgurkendip mit feinen Gewürzen. Wir freuen uns auf Euch! \nAnmeldung via WhatsApp bis Dienstag Mittag. \n 
URL:https://langhuus.ch/blog/event/zmittag-2/
LOCATION:Langhuus Kulturfabrik Cham\, Fabrikstrasse 9\, Cham\, 6330\, Schweiz
CATEGORIES:Gesellschaft/Gemeinschaft,Kulinarik,Mittagessen,Zmittag
ATTACH;FMTTYPE=image/png:https://langhuus.ch/blog/wp-content/uploads/2023/09/medk_banner.png
END:VEVENT
BEGIN:VEVENT
DTSTART;TZID=Europe/Zurich:20231004T150000
DTEND;TZID=Europe/Zurich:20231004T170000
DTSTAMP:20260423T195154
CREATED:20230907T093114Z
LAST-MODIFIED:20230907T093635Z
UID:10001507-1696431600-1696438800@langhuus.ch
SUMMARY:Treff Verein Altern in Cham - Unterwegs mit dem Camper
DESCRIPTION:Robert Suter ist gebürtiger Muotathaler und im Kanton Zug aufgewachsen. Nach seiner Lehre als Elektromonteur und der Rekrutenschule arbeitete er 8 Jahre lang als LKW-Fahrer in allen Ländern Europas und in Vorderasien. Nach seiner Ausbildung als Elektroniker dauerte es nicht lange\, bis er im Auftrag seiner Arbeitgeber wiederum im Ausland tätig war\, wenn es galt\, Lösungen für Störungen an Maschinen oder die Inbetriebnahme von Anlagen ging. Robert ist mit Lilly\, einer gebürtigen Ägypterin\, verheiratet und Vater von zwei erwachsenen Töchtern. Die Abenteuerlust hat Robert also schon sehr früh gepackt und diesen Virus trägt er immer noch in sich. Er nimmt uns mit auf seine Reisen mit dem Camper und lässt uns am Leben unterwegs teilhaben. \nDie Veranstaltung ist öffentlich und gratis und eine Anmeldung ist nicht notwendig.\nZu diesem Anlass sind neben den Vereinsmitgliedern auch alle weiteren\, interessierten Personen herzlich eingeladen. \nWir freuen uns auf Ihre Teilnahme\nRobert Suter und der Vorstand
URL:https://langhuus.ch/blog/event/treff-verein-altern-in-cham-unterwegs-mit-dem-camper/
LOCATION:Langhuus Kulturfabrik Cham\, Fabrikstrasse 9\, Cham\, 6330\, Schweiz
CATEGORIES:Gesellschaft/Gemeinschaft,Vorträge
ATTACH;FMTTYPE=image/png:https://langhuus.ch/blog/wp-content/uploads/2022/12/noun-old-4249581-FF59B9.png
END:VEVENT
BEGIN:VEVENT
DTSTART;TZID=Europe/Zurich:20231005T190000
DTEND;TZID=Europe/Zurich:20231005T210000
DTSTAMP:20260423T195154
CREATED:20230919T150442Z
LAST-MODIFIED:20230920T092328Z
UID:10001768-1696532400-1696539600@langhuus.ch
SUMMARY:Buchlesung & Apéro mit Journalistin Sabina Galbiati
DESCRIPTION:Wie werde ich mit weniger glücklich? Welche Verpackung ist am umweltfreundlichsten? Wie viel Fleisch kann ich mit gutem Gewissen essen? \nDie Autorin und Journalistin Sabina Galbiati nimmt 11 verschiedene Bereiche unseres täglichen Lebens genauer unter die Lupe und liefert praktische Tipps und eigene Erfahrungsberichte zum Thema Nachhaltigkeit im Alltag. \nIm Anschluss an die Lesung sind alle Gäste zu einem Apéro eingeladen. Einige Buchexemplare werden für 33 Franken zum Verkauf aufliegen. Das Buch ist auch in der Bibliothek Cham erhältlich. \nSabina Galbiati \nDieser Anlass wird im Rahmen der Initiative „Nachhaltig leben“ von der Einwohnergemeinde Cham organisiert. \nAnmeldung bis 1. Oktober unter www.cham.ch > Umwelt.Energie. > Energie > Energie-News\noder Tel. 041 723 87 79 \nDer Eintritt ist frei
URL:https://langhuus.ch/blog/event/lesung-apero-mit-sabina-galbiati/
LOCATION:Langhuus Kulturfabrik Cham\, Fabrikstrasse 9\, Cham\, 6330\, Schweiz
CATEGORIES:Gesellschaft/Gemeinschaft,Lesungen,Vorträge
ATTACH;FMTTYPE=image/png:https://langhuus.ch/blog/wp-content/uploads/2023/09/101DingeBuch.png
END:VEVENT
BEGIN:VEVENT
DTSTART;TZID=Europe/Zurich:20231005T200000
DTEND;TZID=Europe/Zurich:20231005T220000
DTSTAMP:20260423T195154
CREATED:20230915T192144Z
LAST-MODIFIED:20230915T192146Z
UID:10001275-1696536000-1696543200@langhuus.ch
SUMMARY:Jam Session
DESCRIPTION:Schlagzeug und PA stehen bereit.\nHast du deine Gitarre schon gestimmt?
URL:https://langhuus.ch/blog/event/jam-session-6-3/
LOCATION:Langhuus Kulturfabrik Cham\, Fabrikstrasse 9\, Cham\, 6330\, Schweiz
CATEGORIES:Gesang,Konzert/Live-Musik,Workshop
ATTACH;FMTTYPE=image/png:https://langhuus.ch/blog/wp-content/uploads/2022/05/noun-sound-4850649-F559BA.png
ORGANIZER;CN="Verein Langhuus Kulturfabrik":MAILTO:info@langhuus.ch
END:VEVENT
BEGIN:VEVENT
DTSTART;TZID=Europe/Zurich:20231006T160000
DTEND;TZID=Europe/Zurich:20231006T230000
DTSTAMP:20260423T195154
CREATED:20230406T084210Z
LAST-MODIFIED:20231115T125635Z
UID:10001006-1696608000-1696633200@langhuus.ch
SUMMARY:Friitig Bar
DESCRIPTION:Die Langhuus Bar hat neu am Freitag schon ab 16 Uhr geöffnet. \nIdeal für ein Feierabend-Bier …
URL:https://langhuus.ch/blog/event/friitig-bar/2023-10-06/
LOCATION:Langhuus Kulturfabrik Cham\, Fabrikstrasse 9\, Cham\, 6330\, Schweiz
CATEGORIES:Barbetrieb,Gesellschaft/Gemeinschaft
ATTACH;FMTTYPE=image/png:https://langhuus.ch/blog/wp-content/uploads/2023/04/noun-beer-1821205-FF59B9.png
ORGANIZER;CN="Verein Langhuus Kulturfabrik":MAILTO:info@langhuus.ch
END:VEVENT
BEGIN:VEVENT
DTSTART;TZID=Europe/Zurich:20231006T200000
DTEND;TZID=Europe/Zurich:20231006T220000
DTSTAMP:20260423T195154
CREATED:20230920T094941Z
LAST-MODIFIED:20230920T095115Z
UID:10001770-1696622400-1696629600@langhuus.ch
SUMMARY:Kolin Battle 2023 - Polit-Podium
DESCRIPTION:Im Langhuus findet das Kolin Battle 2023 statt\, eine politische Diskussionsrunde zu aktuellen Themen\, an der sich Jungpolitiker\, Jugendliche und junge Erwachsene beteiligen können. Vertreten sind jeweils alle Zuger Jungparteien. Es geht allerdings nicht darum\, in einer Jungpartei mitzuwirken – alle sind willkommen und alle Meinungen sind gewünscht. \nThema 1: Migration\nThema 2: Krankenkasse \nOrganisiert wird die Veranstaltung durch die Jungfreisinnigen Zug.
URL:https://langhuus.ch/blog/event/kolin-battle-2023-polit-podium/
LOCATION:Langhuus Kulturfabrik Cham\, Fabrikstrasse 9\, Cham\, 6330\, Schweiz
CATEGORIES:Gesellschaft/Gemeinschaft,Philosophie/Gespräche
ATTACH;FMTTYPE=image/png:https://langhuus.ch/blog/wp-content/uploads/2023/09/kolin_battle.png
END:VEVENT
BEGIN:VEVENT
DTSTART;TZID=Europe/Zurich:20231007T200000
DTEND;TZID=Europe/Zurich:20231007T220000
DTSTAMP:20260423T195154
CREATED:20230920T093852Z
LAST-MODIFIED:20231005T094550Z
UID:10001769-1696708800-1696716000@langhuus.ch
SUMMARY:Konzert Eoghan Konstantin & Band
DESCRIPTION:Eoghan Konstantin ist ein Singer-Songwriter Irland. Seit er 2019 nach St.Gallen gezogen ist\, hat er langsam eine Musikkarriere begonnen\, die sich auf einen akustischen Indie-Folk-Sound konzentriert und eine Live-Performance voller Melancholie\, Witze und ehrlicher Anekdoten produziert. \nEr spielt zusammen mit seiner talentierten Band\, dem Schlagzeuger Gabriel Imhof und dem Pianisten/Bassisten Lino Rohner\, beliebte Eigenkompositionen. \nTüröffnung 19 Uhr\nKonzert 20 Uhr \nKollekte
URL:https://langhuus.ch/blog/event/konzert-eoghan-konstantin-band/
LOCATION:Langhuus Kulturfabrik Cham\, Fabrikstrasse 9\, Cham\, 6330\, Schweiz
CATEGORIES:Konzert/Live-Musik
ATTACH;FMTTYPE=image/jpeg:https://langhuus.ch/blog/wp-content/uploads/2023/09/eoghan.jpeg
ORGANIZER;CN="Verein Langhuus Kulturfabrik":MAILTO:info@langhuus.ch
END:VEVENT
BEGIN:VEVENT
DTSTART;TZID=Europe/Zurich:20231008T130000
DTEND;TZID=Europe/Zurich:20231008T170000
DTSTAMP:20260423T195154
CREATED:20230920T095525Z
LAST-MODIFIED:20230920T095537Z
UID:10001771-1696770000-1696784400@langhuus.ch
SUMMARY:Gospelchorprobe
DESCRIPTION:Ein integrativer Gospelchor entsteht\, sei ein Teil davon! Probe ohne Anmeldung für alle Interessierten (Deutsch oder Englisch).\nEnglish spoken\, welcome everybody! \nVeranstalter: Gospel Voices Zug
URL:https://langhuus.ch/blog/event/gospelchorprobe/
LOCATION:Langhuus Kulturfabrik Cham\, Fabrikstrasse 9\, Cham\, 6330\, Schweiz
CATEGORIES:Chor,Workshop
ATTACH;FMTTYPE=image/png:https://langhuus.ch/blog/wp-content/uploads/2023/02/noun-choir-4592889-B477E0.png
END:VEVENT
BEGIN:VEVENT
DTSTART;TZID=Europe/Zurich:20231009T190000
DTEND;TZID=Europe/Zurich:20231009T213000
DTSTAMP:20260423T195154
CREATED:20230823T175455Z
LAST-MODIFIED:20231002T055733Z
UID:10001445-1696878000-1696887000@langhuus.ch
SUMMARY:Theaterlust Improvisation
DESCRIPTION:Impro-Theater Workshop mit Christina Steybe\nSpielfreude entdecken und in vielen Varianten auskosten! \nLernen\, wie Improvisieren geht\, Ausdruck\, Kreativität\, Humor und körperliche wie geistige Gewandtheit üben. Beim Improvisieren weisst Du nicht wirklich\, was kommt. Du reagierst im Augenblick\, lernst auch den anderen Raum geben\, kannst scheitern – und viel Spass haben bei all dem. Impro-Theater ist aufregend\, lebendig und lustvoll! \nEinstieg jeweils mit warm-ups und Spielen\, kennenlernen und üben von Techniken\, Bühnensituationen (Solo\, Duo oder Gruppe). \nWir bewegen uns – bitte bequeme Kleidung\, Jacke\, Socken oder Gymnastikschuhe mitbringen \nDer Workshop findet mit mind. 8\, max. 12 Teilnehmenden statt \n9.+ 16. + 23. + 30. Oktober 2023\njeweils 19.00 – 21.30 Uhr \nKosten: CHF 150.- für alle Kurstage (bar oder Twint am ersten Kursabend) \nAnmeldung bis am 1. Oktober (Name\, Adresse\, Tel.\, Mailadresse) an: csteybe@bluewin.ch \nGoody: Am letzten Kursabend – 30. Oktober 2023 laden wir von 20:45 bis 21:30 Uhr zu einer kleinen\, öffentlichen Impro Aufführung ein!\nEintritt frei\, im Anschluss Barbetrieb \n 
URL:https://langhuus.ch/blog/event/theaterlust-improvisation-4/2023-10-09/
LOCATION:Langhuus Kulturfabrik Cham\, Fabrikstrasse 9\, Cham\, 6330\, Schweiz
CATEGORIES:Theater,Workshop
ATTACH;FMTTYPE=image/png:https://langhuus.ch/blog/wp-content/uploads/2023/01/noun-pantomime-5251128-FF59B9.png
ORGANIZER;CN="Verein Langhuus Kulturfabrik":MAILTO:info@langhuus.ch
END:VEVENT
BEGIN:VEVENT
DTSTART;TZID=Europe/Zurich:20231011T120000
DTEND;TZID=Europe/Zurich:20231011T130000
DTSTAMP:20260423T195154
CREATED:20231005T151459Z
LAST-MODIFIED:20231005T151501Z
UID:10001509-1697025600-1697029200@langhuus.ch
SUMMARY:Zmittag
DESCRIPTION:Jeden Mittwoch serviert My Elephant Kitchen im Langhuus ein feines Menu. \nNach unserem schönen Auftakt\, wartet diese Woche ein herbstlich-gluschtiges Menü auf unsere Gäste. Auf Euch wartet ein würzig-cremiges Kichererbsen-Blattspinatcurry und Quinoa Tricolore mit gerösteten Pumpkincubes und Sonnenblumenkernen\, serviert mit unserem speziellen Minzjoghurtdip.\n\nWir freuen uns auf Euch!\nAnmeldung via WhatsApp bis Dienstag Mittag. \n 
URL:https://langhuus.ch/blog/event/zmittag-3/
LOCATION:Langhuus Kulturfabrik Cham\, Fabrikstrasse 9\, Cham\, 6330\, Schweiz
CATEGORIES:Gesellschaft/Gemeinschaft,Kulinarik,Mittagessen,Zmittag
ATTACH;FMTTYPE=image/png:https://langhuus.ch/blog/wp-content/uploads/2023/09/medk_banner.png
END:VEVENT
BEGIN:VEVENT
DTSTART;TZID=Europe/Zurich:20231012T190000
DTEND;TZID=Europe/Zurich:20231012T220000
DTSTAMP:20260423T195154
CREATED:20231012T042412Z
LAST-MODIFIED:20231012T042512Z
UID:10000851-1697137200-1697148000@langhuus.ch
SUMMARY:Spielabend
DESCRIPTION:Jeden Monat am zweiten und vierten Donnerstag Abend rollen die Würfel im Langhuus. Oder soll es eine Partie Schach oder eine Runde Dog sein? Du darfst gerne selbst Spiele mitbringen.
URL:https://langhuus.ch/blog/event/spielabend-zweiter-donnerstag-5/
LOCATION:Langhuus Kulturfabrik Cham\, Fabrikstrasse 9\, Cham\, 6330\, Schweiz
CATEGORIES:Gesellschaft/Gemeinschaft,Spiele
ATTACH;FMTTYPE=image/png:https://langhuus.ch/blog/wp-content/uploads/2022/05/noun-dice-1671260-F559BA.png
ORGANIZER;CN="Verein Langhuus Kulturfabrik":MAILTO:info@langhuus.ch
END:VEVENT
BEGIN:VEVENT
DTSTART;TZID=Europe/Zurich:20231013T160000
DTEND;TZID=Europe/Zurich:20231013T230000
DTSTAMP:20260423T195154
CREATED:20230406T084210Z
LAST-MODIFIED:20231115T125635Z
UID:10001007-1697212800-1697238000@langhuus.ch
SUMMARY:Friitig Bar
DESCRIPTION:Die Langhuus Bar hat neu am Freitag schon ab 16 Uhr geöffnet. \nIdeal für ein Feierabend-Bier …
URL:https://langhuus.ch/blog/event/friitig-bar/2023-10-13/
LOCATION:Langhuus Kulturfabrik Cham\, Fabrikstrasse 9\, Cham\, 6330\, Schweiz
CATEGORIES:Barbetrieb,Gesellschaft/Gemeinschaft
ATTACH;FMTTYPE=image/png:https://langhuus.ch/blog/wp-content/uploads/2023/04/noun-beer-1821205-FF59B9.png
ORGANIZER;CN="Verein Langhuus Kulturfabrik":MAILTO:info@langhuus.ch
END:VEVENT
BEGIN:VEVENT
DTSTART;TZID=Europe/Zurich:20231015T140000
DTEND;TZID=Europe/Zurich:20231015T170000
DTSTAMP:20260423T195154
CREATED:20230927T073332Z
LAST-MODIFIED:20230927T075717Z
UID:10001774-1697378400-1697389200@langhuus.ch
SUMMARY:SONAMI Treff
DESCRIPTION:An alle\, die gerne am Sonntagnachmittag einmal im Monat Zeit zusammen verbringen möchten in geselliger und gemütlicher Runde. Wir geben jeweils einen Anfangsimpuls\, danach ist Möglichkeit zum Gespräch oder Sich-draussen-Bewegen\, vielleicht Spazieren Gehen oder Boules Spielen\, anschliessend gibt es Kaffee und Kuchen und gemütliches Beisammensein\, Kartenspielen\, Erzählen und eigene Ideen. Wir sprechen auch mal Englisch\, Französisch oder was sonst noch gewünscht wird. Auf jeden Fall gibt es immer ein Sofa zum gemütlich Sitzen- wie daheim im Wohnzimmer. \nWir freuen uns über viele neue Gesichter!\nAnnette Plath\, Karin Pasamontes\, Lisa Herms
URL:https://langhuus.ch/blog/event/sonami-treff-7/
LOCATION:Langhuus Kulturfabrik Cham\, Fabrikstrasse 9\, Cham\, 6330\, Schweiz
CATEGORIES:Gesellschaft/Gemeinschaft
ATTACH;FMTTYPE=image/png:https://langhuus.ch/blog/wp-content/uploads/2022/09/noun-coffee-shop-433953-FF59BA.png
END:VEVENT
BEGIN:VEVENT
DTSTART;TZID=Europe/Zurich:20231016T190000
DTEND;TZID=Europe/Zurich:20231016T213000
DTSTAMP:20260423T195154
CREATED:20230823T175455Z
LAST-MODIFIED:20231002T055733Z
UID:10001446-1697482800-1697491800@langhuus.ch
SUMMARY:Theaterlust Improvisation
DESCRIPTION:Impro-Theater Workshop mit Christina Steybe\nSpielfreude entdecken und in vielen Varianten auskosten! \nLernen\, wie Improvisieren geht\, Ausdruck\, Kreativität\, Humor und körperliche wie geistige Gewandtheit üben. Beim Improvisieren weisst Du nicht wirklich\, was kommt. Du reagierst im Augenblick\, lernst auch den anderen Raum geben\, kannst scheitern – und viel Spass haben bei all dem. Impro-Theater ist aufregend\, lebendig und lustvoll! \nEinstieg jeweils mit warm-ups und Spielen\, kennenlernen und üben von Techniken\, Bühnensituationen (Solo\, Duo oder Gruppe). \nWir bewegen uns – bitte bequeme Kleidung\, Jacke\, Socken oder Gymnastikschuhe mitbringen \nDer Workshop findet mit mind. 8\, max. 12 Teilnehmenden statt \n9.+ 16. + 23. + 30. Oktober 2023\njeweils 19.00 – 21.30 Uhr \nKosten: CHF 150.- für alle Kurstage (bar oder Twint am ersten Kursabend) \nAnmeldung bis am 1. Oktober (Name\, Adresse\, Tel.\, Mailadresse) an: csteybe@bluewin.ch \nGoody: Am letzten Kursabend – 30. Oktober 2023 laden wir von 20:45 bis 21:30 Uhr zu einer kleinen\, öffentlichen Impro Aufführung ein!\nEintritt frei\, im Anschluss Barbetrieb \n 
URL:https://langhuus.ch/blog/event/theaterlust-improvisation-4/2023-10-16/
LOCATION:Langhuus Kulturfabrik Cham\, Fabrikstrasse 9\, Cham\, 6330\, Schweiz
CATEGORIES:Theater,Workshop
ATTACH;FMTTYPE=image/png:https://langhuus.ch/blog/wp-content/uploads/2023/01/noun-pantomime-5251128-FF59B9.png
ORGANIZER;CN="Verein Langhuus Kulturfabrik":MAILTO:info@langhuus.ch
END:VEVENT
BEGIN:VEVENT
DTSTART;TZID=Europe/Zurich:20231018T120000
DTEND;TZID=Europe/Zurich:20231018T130000
DTSTAMP:20260423T195154
CREATED:20231014T194113Z
LAST-MODIFIED:20231014T194114Z
UID:10001510-1697630400-1697634000@langhuus.ch
SUMMARY:Zmittag
DESCRIPTION:Jeden Mittwoch serviert My Elephant Kitchen im Langhuus ein feines Menu. \nDiese Woche verwöhnen wir Euch mit einem herrlichen Zucchettidaal an goldenem Kurkumabasmatireis. Serviert mit hausgemachten Zwiebelpickles und unserem Randenjoghurtdip. Würzig und wärmend\, genau das Richtige\, wenn die Tage kälter werden. Sagt es gerne weiter! Wir freuen uns auf Euch! \nAnmeldung via WhatsApp bis Dienstag Mittag. \nTeam My Elephant Kitchen \n  \n 
URL:https://langhuus.ch/blog/event/zmittag-4/
LOCATION:Langhuus Kulturfabrik Cham\, Fabrikstrasse 9\, Cham\, 6330\, Schweiz
CATEGORIES:Gesellschaft/Gemeinschaft,Kulinarik,Mittagessen,Zmittag
ATTACH;FMTTYPE=image/png:https://langhuus.ch/blog/wp-content/uploads/2023/09/medk_banner.png
END:VEVENT
BEGIN:VEVENT
DTSTART;TZID=Europe/Zurich:20231019T140000
DTEND;TZID=Europe/Zurich:20231019T160000
DTSTAMP:20260423T195154
CREATED:20230927T073530Z
LAST-MODIFIED:20230927T073530Z
UID:10001775-1697724000-1697731200@langhuus.ch
SUMMARY:Spielnachmittag Verein Altern-in-Cham
DESCRIPTION:
URL:https://langhuus.ch/blog/event/spielnachmittag-verein-altern-in-cham-2/
LOCATION:Langhuus Kulturfabrik Cham\, Fabrikstrasse 9\, Cham\, 6330\, Schweiz
CATEGORIES:Gesellschaft/Gemeinschaft,Spiele
ATTACH;FMTTYPE=image/png:https://langhuus.ch/blog/wp-content/uploads/2022/05/noun-dice-1671260-F559BA.png
END:VEVENT
BEGIN:VEVENT
DTSTART;TZID=Europe/Zurich:20231020T160000
DTEND;TZID=Europe/Zurich:20231020T230000
DTSTAMP:20260423T195154
CREATED:20230406T084210Z
LAST-MODIFIED:20231115T125635Z
UID:10001008-1697817600-1697842800@langhuus.ch
SUMMARY:Friitig Bar
DESCRIPTION:Die Langhuus Bar hat neu am Freitag schon ab 16 Uhr geöffnet. \nIdeal für ein Feierabend-Bier …
URL:https://langhuus.ch/blog/event/friitig-bar/2023-10-20/
LOCATION:Langhuus Kulturfabrik Cham\, Fabrikstrasse 9\, Cham\, 6330\, Schweiz
CATEGORIES:Barbetrieb,Gesellschaft/Gemeinschaft
ATTACH;FMTTYPE=image/png:https://langhuus.ch/blog/wp-content/uploads/2023/04/noun-beer-1821205-FF59B9.png
ORGANIZER;CN="Verein Langhuus Kulturfabrik":MAILTO:info@langhuus.ch
END:VEVENT
BEGIN:VEVENT
DTSTART;TZID=Europe/Zurich:20231023T190000
DTEND;TZID=Europe/Zurich:20231023T213000
DTSTAMP:20260423T195154
CREATED:20230823T175455Z
LAST-MODIFIED:20231002T055733Z
UID:10001447-1698087600-1698096600@langhuus.ch
SUMMARY:Theaterlust Improvisation
DESCRIPTION:Impro-Theater Workshop mit Christina Steybe\nSpielfreude entdecken und in vielen Varianten auskosten! \nLernen\, wie Improvisieren geht\, Ausdruck\, Kreativität\, Humor und körperliche wie geistige Gewandtheit üben. Beim Improvisieren weisst Du nicht wirklich\, was kommt. Du reagierst im Augenblick\, lernst auch den anderen Raum geben\, kannst scheitern – und viel Spass haben bei all dem. Impro-Theater ist aufregend\, lebendig und lustvoll! \nEinstieg jeweils mit warm-ups und Spielen\, kennenlernen und üben von Techniken\, Bühnensituationen (Solo\, Duo oder Gruppe). \nWir bewegen uns – bitte bequeme Kleidung\, Jacke\, Socken oder Gymnastikschuhe mitbringen \nDer Workshop findet mit mind. 8\, max. 12 Teilnehmenden statt \n9.+ 16. + 23. + 30. Oktober 2023\njeweils 19.00 – 21.30 Uhr \nKosten: CHF 150.- für alle Kurstage (bar oder Twint am ersten Kursabend) \nAnmeldung bis am 1. Oktober (Name\, Adresse\, Tel.\, Mailadresse) an: csteybe@bluewin.ch \nGoody: Am letzten Kursabend – 30. Oktober 2023 laden wir von 20:45 bis 21:30 Uhr zu einer kleinen\, öffentlichen Impro Aufführung ein!\nEintritt frei\, im Anschluss Barbetrieb \n 
URL:https://langhuus.ch/blog/event/theaterlust-improvisation-4/2023-10-23/
LOCATION:Langhuus Kulturfabrik Cham\, Fabrikstrasse 9\, Cham\, 6330\, Schweiz
CATEGORIES:Theater,Workshop
ATTACH;FMTTYPE=image/png:https://langhuus.ch/blog/wp-content/uploads/2023/01/noun-pantomime-5251128-FF59B9.png
ORGANIZER;CN="Verein Langhuus Kulturfabrik":MAILTO:info@langhuus.ch
END:VEVENT
BEGIN:VEVENT
DTSTART;TZID=Europe/Zurich:20231025T120000
DTEND;TZID=Europe/Zurich:20231025T130000
DTSTAMP:20260423T195154
CREATED:20231022T090117Z
LAST-MODIFIED:20231022T090145Z
UID:10001511-1698235200-1698238800@langhuus.ch
SUMMARY:Zmittag
DESCRIPTION:Liebe Freunde \nDiese Woche freuen wir uns auf Euch mit diesem Menü. \nEs gibt ein feines indisches Daal mit Blacked Eye Peas\, dazu roter Randenbasmatireis und geröstetet Ofenwürzkartoffeln\, serviert mit unserem Joghurtdip. \nSagt es gerne weiter. Wir freuen uns auf bekannte und neue Gesichter. \nEinen schönen Sonntag Euch und bis nächsten Mittwoch. \nTeam My Elephant Kitchen \nAnmeldung via WhatsApp bis Dienstag Mittag. \n 
URL:https://langhuus.ch/blog/event/zmittag-5/
LOCATION:Langhuus Kulturfabrik Cham\, Fabrikstrasse 9\, Cham\, 6330\, Schweiz
CATEGORIES:Gesellschaft/Gemeinschaft,Kulinarik,Mittagessen,Zmittag
ATTACH;FMTTYPE=image/png:https://langhuus.ch/blog/wp-content/uploads/2023/09/medk_banner.png
END:VEVENT
BEGIN:VEVENT
DTSTART;TZID=Europe/Zurich:20231026T190000
DTEND;TZID=Europe/Zurich:20231026T220000
DTSTAMP:20260423T195154
CREATED:20230629T171443Z
LAST-MODIFIED:20230629T171758Z
UID:10001363-1698346800-1698357600@langhuus.ch
SUMMARY:Spielabend
DESCRIPTION:Jeden Monat am zweiten und vierten Donnerstag Abend rollen die Würfel im Langhuus. Oder soll es eine Partie Schach oder eine Runde Dog sein? Du darfst gerne selbst Spiele mitbringen.
URL:https://langhuus.ch/blog/event/spielabend_vierter_donnerstag-3/2023-10-26/
LOCATION:Langhuus Kulturfabrik Cham\, Fabrikstrasse 9\, Cham\, 6330\, Schweiz
CATEGORIES:Gesellschaft/Gemeinschaft,Spiele
ATTACH;FMTTYPE=image/png:https://langhuus.ch/blog/wp-content/uploads/2022/05/noun-dice-1671260-F559BA.png
ORGANIZER;CN="Verein Langhuus Kulturfabrik":MAILTO:info@langhuus.ch
END:VEVENT
BEGIN:VEVENT
DTSTART;TZID=Europe/Zurich:20231027T160000
DTEND;TZID=Europe/Zurich:20231027T230000
DTSTAMP:20260423T195154
CREATED:20230406T084210Z
LAST-MODIFIED:20231115T125635Z
UID:10001009-1698422400-1698447600@langhuus.ch
SUMMARY:Friitig Bar
DESCRIPTION:Die Langhuus Bar hat neu am Freitag schon ab 16 Uhr geöffnet. \nIdeal für ein Feierabend-Bier …
URL:https://langhuus.ch/blog/event/friitig-bar/2023-10-27/
LOCATION:Langhuus Kulturfabrik Cham\, Fabrikstrasse 9\, Cham\, 6330\, Schweiz
CATEGORIES:Barbetrieb,Gesellschaft/Gemeinschaft
ATTACH;FMTTYPE=image/png:https://langhuus.ch/blog/wp-content/uploads/2023/04/noun-beer-1821205-FF59B9.png
ORGANIZER;CN="Verein Langhuus Kulturfabrik":MAILTO:info@langhuus.ch
END:VEVENT
BEGIN:VEVENT
DTSTART;TZID=Europe/Zurich:20231029T103000
DTEND;TZID=Europe/Zurich:20231029T150000
DTSTAMP:20260423T195154
CREATED:20230927T090921Z
LAST-MODIFIED:20231020T134155Z
UID:10001776-1698575400-1698591600@langhuus.ch
SUMMARY:Brösmelis Zmorgä
DESCRIPTION:Mit neuem Namen\, aber wie gehabt mit vielen Leckereien\, laden wir am 29. Oktober 2023 um 10.30 Uhr zum Brunch im Langhuus ein. \n‌Seit 2018 organisieren wir unseren Brunch\, mit der Idee die Zuger Brunchszene zu erweitern und mit unserem Hobby anderen eine Freude zu machen. \nEinmal im Quartal veranstalten wir seither diesen Brunch\, der u.a. selbstgemachtes Brot\, Konfi\, Müsli\, frische Säfte\, Kaffee & Tee zu bieten hat. Dabei ist uns wichtig saisonale und lokale Produkte zu verwenden. \nUnser Brunch soll neben einem gut gefüllten Buffet auch einen Ort der Begegnungen sein. Wir freuen uns über alte & neue Gesichter\, grosse & kleine Gäste. \nWir werden Ende Oktober ein herbstliches & herzliches Frühstück zubereiten und würden uns freuen\, dich\, deine Freunde und/oder Familie dabei zu haben. Wir haben limitierte Plätze und bitten daher um Anmeldung unter broesmelievents@gmail.com oder Tel. +41 79 785 14 85.‌ \nPreis: 45 CHF (für Kinder ab 6 Jahren 2 CHF pro Altersjahr)
URL:https://langhuus.ch/blog/event/broesmelis-zmorgae/
LOCATION:Langhuus Kulturfabrik Cham\, Fabrikstrasse 9\, Cham\, 6330\, Schweiz
CATEGORIES:Brunch,Gesellschaft/Gemeinschaft,Kulinarik
ATTACH;FMTTYPE=image/png:https://langhuus.ch/blog/wp-content/uploads/2023/05/noun-eating-4956825-FF59B9.png
END:VEVENT
BEGIN:VEVENT
DTSTART;TZID=Europe/Zurich:20231030T190000
DTEND;TZID=Europe/Zurich:20231030T213000
DTSTAMP:20260423T195154
CREATED:20230823T175455Z
LAST-MODIFIED:20231002T055733Z
UID:10001448-1698692400-1698701400@langhuus.ch
SUMMARY:Theaterlust Improvisation
DESCRIPTION:Impro-Theater Workshop mit Christina Steybe\nSpielfreude entdecken und in vielen Varianten auskosten! \nLernen\, wie Improvisieren geht\, Ausdruck\, Kreativität\, Humor und körperliche wie geistige Gewandtheit üben. Beim Improvisieren weisst Du nicht wirklich\, was kommt. Du reagierst im Augenblick\, lernst auch den anderen Raum geben\, kannst scheitern – und viel Spass haben bei all dem. Impro-Theater ist aufregend\, lebendig und lustvoll! \nEinstieg jeweils mit warm-ups und Spielen\, kennenlernen und üben von Techniken\, Bühnensituationen (Solo\, Duo oder Gruppe). \nWir bewegen uns – bitte bequeme Kleidung\, Jacke\, Socken oder Gymnastikschuhe mitbringen \nDer Workshop findet mit mind. 8\, max. 12 Teilnehmenden statt \n9.+ 16. + 23. + 30. Oktober 2023\njeweils 19.00 – 21.30 Uhr \nKosten: CHF 150.- für alle Kurstage (bar oder Twint am ersten Kursabend) \nAnmeldung bis am 1. Oktober (Name\, Adresse\, Tel.\, Mailadresse) an: csteybe@bluewin.ch \nGoody: Am letzten Kursabend – 30. Oktober 2023 laden wir von 20:45 bis 21:30 Uhr zu einer kleinen\, öffentlichen Impro Aufführung ein!\nEintritt frei\, im Anschluss Barbetrieb \n 
URL:https://langhuus.ch/blog/event/theaterlust-improvisation-4/2023-10-30/
LOCATION:Langhuus Kulturfabrik Cham\, Fabrikstrasse 9\, Cham\, 6330\, Schweiz
CATEGORIES:Theater,Workshop
ATTACH;FMTTYPE=image/png:https://langhuus.ch/blog/wp-content/uploads/2023/01/noun-pantomime-5251128-FF59B9.png
ORGANIZER;CN="Verein Langhuus Kulturfabrik":MAILTO:info@langhuus.ch
END:VEVENT
END:VCALENDAR