BEGIN:VCALENDAR
VERSION:2.0
PRODID:-//Langhuus Kulturfabrik Cham - ECPv6.15.20//NONSGML v1.0//EN
CALSCALE:GREGORIAN
METHOD:PUBLISH
X-WR-CALNAME:Langhuus Kulturfabrik Cham
X-ORIGINAL-URL:https://langhuus.ch/blog
X-WR-CALDESC:Veranstaltungen für Langhuus Kulturfabrik Cham
REFRESH-INTERVAL;VALUE=DURATION:PT1H
X-Robots-Tag:noindex
X-PUBLISHED-TTL:PT1H
BEGIN:VTIMEZONE
TZID:Europe/Zurich
BEGIN:DAYLIGHT
TZOFFSETFROM:+0100
TZOFFSETTO:+0200
TZNAME:CEST
DTSTART:20250330T010000
END:DAYLIGHT
BEGIN:STANDARD
TZOFFSETFROM:+0200
TZOFFSETTO:+0100
TZNAME:CET
DTSTART:20251026T010000
END:STANDARD
BEGIN:DAYLIGHT
TZOFFSETFROM:+0100
TZOFFSETTO:+0200
TZNAME:CEST
DTSTART:20260329T010000
END:DAYLIGHT
BEGIN:STANDARD
TZOFFSETFROM:+0200
TZOFFSETTO:+0100
TZNAME:CET
DTSTART:20261025T010000
END:STANDARD
BEGIN:DAYLIGHT
TZOFFSETFROM:+0100
TZOFFSETTO:+0200
TZNAME:CEST
DTSTART:20270328T010000
END:DAYLIGHT
BEGIN:STANDARD
TZOFFSETFROM:+0200
TZOFFSETTO:+0100
TZNAME:CET
DTSTART:20271031T010000
END:STANDARD
END:VTIMEZONE
BEGIN:VEVENT
DTSTART;VALUE=DATE:20260318
DTEND;VALUE=DATE:20260515
DTSTAMP:20260424T013654
CREATED:20260224T143347Z
LAST-MODIFIED:20260224T144455Z
UID:10004988-1773792000-1778803199@langhuus.ch
SUMMARY:URFORM - Austellung von Ennio Solomko
DESCRIPTION:18.3.-14.5.2026\nMASCHINENGASSE PM5\, CHAM\nhttps://enniosolomko.ch/urform/\n \nIn der Physik beschreibt die Stringtheorie das Universum als ein Netz unsichtbarer\, vibrierender Fäden. Materie besteht nicht aus Punkten\, sondern aus schwingenden Saiten\, deren Rhythmen unterschiedliche Zustände der Realität erzeugen. \nDie Symbole dieser Ausstellung können als Abdrücke dieser Schwingungen gesehen werden. Sie sind keine Darstellungen von Objekten\, sondern eingefrorene Spuren von Bewegung – eine Art Schrift\, in der Worte durch Resonanzen und Rhythmen ersetzt sind. \nDiese Entdeckung entspringt der Arbeit mit Holz. In seiner Struktur begegnete ich den Spuren des Borkenkäfers: einem zentralen Gang\, der sich in kleinere Verästelungen aufteilt. Jede dieser Linien ist eine in Materie fixierte Metamorphose. \nDiese natürlichen „Gravuren“ erinnern auf erstaunliche Weise an Neuronen\, Myzelien\, Pflanzen\, Flussdeltas \nIM PAPIERI-AREAL\nDas Papieri-Areal ist ein urbaner Raum. \n„Urform“ ist ein künstlerisches Experiment\, das die Strukturen der Natur mit der Architektur der Stadt verbindet. Wie in der Natur entstehen auch in urbanen Räumen Netzwerke\, Verzweigungen und Rhythmen – Spuren derselben universellen Geometrie. \nDie Werke zeigen Linien\, die aus Bewegung entstanden sind – Abdrücke eines lebendigen Systems. \nZwischen Holz und Beton\, zwischen Rinde und Straße entsteht ein Dialog: \nDie Stadt ist eine Fortsetzung der Natur – in anderer Frequenz. \n \nENNIO SOLOMKO\nSeit 2014 beschäftigt sich Ennio Solomko mit Kunst und der Organisation von Kunst-Veranstaltungen. Er arbeitet mit Holz\, Skulpturen\, 3D-Druckern und Modellierung. Er kreiert Installationen und Performances\, in denen er Zustände des Gleichgewichts und der Kontemplation des Augenblicks erforscht. \nenniosolomko.ch\nInstagram @dobryinamir \nPARTNER
URL:https://langhuus.ch/blog/event/urform-austellung-von-ennio-solomko/
LOCATION:Papierie Areal\, Cham\, 6330\, Schweiz
CATEGORIES:Aktion,Ausstellung,Kunst
ATTACH;FMTTYPE=image/png:https://langhuus.ch/blog/wp-content/uploads/2026/02/urform-683x1024-1.png
ORGANIZER;CN="Verein Langhuus Kulturfabrik":MAILTO:info@langhuus.ch
END:VEVENT
BEGIN:VEVENT
DTSTART;TZID=Europe/Zurich:20260424T100000
DTEND;TZID=Europe/Zurich:20260424T120000
DTSTAMP:20260424T013654
CREATED:20260305T102208Z
LAST-MODIFIED:20260330T110258Z
UID:10004994-1777024800-1777032000@langhuus.ch
SUMMARY:Farben verstehen & bewusst mischen - Malkurs für Erwachsene
DESCRIPTION:In diesem vierteiligen Kurs widmen wir uns dem bewussten Mischen von Farben und der Entwicklung harmonischer Farbkompositionen. \nDie Teilnehmenden lernen\, Farbbeziehungen gezielt einzusetzen und eine eigene\, stimmige Farbpalette zu erarbeiten. \nSchritt für Schritt entsteht daraus ein persönliches Bild\, das die erarbeiteten Farbkonzepte sichtbar macht. \nDer Kurs richtet sich an Erwachsene aller Niveaus und findet in kleiner Ateliergruppe mit individueller Begleitung statt. \nOrt: Kulturhaus Langhuus\, Cham\nTeilnehmende: max. 8 Personen \nAnmeldung
URL:https://langhuus.ch/blog/event/farben-verstehen-bewusst-mischen-malkurs-fuer-erwachsene/2026-04-24/
LOCATION:Langhuus Kulturfabrik Cham\, Fabrikstrasse 9\, Cham\, 6330\, Schweiz
CATEGORIES:Kunst,Kurs,Malerei,Workshop
ATTACH;FMTTYPE=image/webp:https://langhuus.ch/blog/wp-content/uploads/2026/03/farben_mischen_julia.webp
ORGANIZER;CN="Julia Nissimoff Art":MAILTO:info@julia-nissimoff.com
END:VEVENT
BEGIN:VEVENT
DTSTART;TZID=Europe/Zurich:20260424T180000
DTEND;TZID=Europe/Zurich:20260424T230000
DTSTAMP:20260424T013654
CREATED:20260204T141301Z
LAST-MODIFIED:20260324T141700Z
UID:10002152-1777053600-1777071600@langhuus.ch
SUMMARY:Tavolata Italiana
DESCRIPTION:Erlebe den Charme und den Genuss italienischer Spezialitäten auf einem Tisch. \nBei einer Tavolata sitzen die Gäste an einer langen Tafel und jeder bedient sich selbst – ganz praktisch und unkompliziert. \nWir verwöhnen mit köstlichen Spezialitäten aus der italienischen Küche und du kannst es einfach nur geniessen\, ein gutes Glas Wein dazu trinken und spannende Gespräche führen. \nAuch für die musikalische Unterhaltung ist gesorgt – ab 19:00 Uhr „Video italiano“ mit DJ Dr. Beat. \nWähle selbst: \n– Ich habe kurz Zeit Apéro 1 Glas… mit Häppchen (ohne Reservation) CHF 14.- p.P.\n– Ich habe mehr Zeit Tavolata inkl. Apéro (mit Reservation) CHF 43.- p.P. \nEine schöne Auswahl italienischer Weine steht bereit – es kann ganz flexibel glas- oder flaschenweise gewählt werden. \nDie Weine werden separat berechnet. \nReserviere für dich und deine Begleitung bis spätestens Montag\, 20. April 2026 mit einer kurzen Message unter 079 946 49 17 (Platzzahl begrenzt). \nWir freuen uns auf einen gelungenen Abend und ein bisschen dolce vita ! \nBrigitte\, Markus und Video DJ Dr. Beat \nFlyer TAVOLATA – Langhuus Cham im April2026
URL:https://langhuus.ch/blog/event/friitig-bar-3-10/
LOCATION:Langhuus Kulturfabrik Cham\, Fabrikstrasse 9\, Cham\, 6330\, Schweiz
CATEGORIES:Barbetrieb,Gesellschaft/Gemeinschaft,Kulinarik
ATTACH;FMTTYPE=image/jpeg:https://langhuus.ch/blog/wp-content/uploads/2026/02/IMG_2981.jpeg
ORGANIZER;CN="Verein Langhuus Kulturfabrik":MAILTO:info@langhuus.ch
END:VEVENT
END:VCALENDAR